BEGIN:VCALENDAR
VERSION:2.0
PRODID:-//Michigan Indigent Defense Commission - ECPv6.15.20//NONSGML v1.0//EN
CALSCALE:GREGORIAN
METHOD:PUBLISH
X-ORIGINAL-URL:https://michiganidc.gov
X-WR-CALDESC:Events for Michigan Indigent Defense Commission
REFRESH-INTERVAL;VALUE=DURATION:PT1H
X-Robots-Tag:noindex
X-PUBLISHED-TTL:PT1H
BEGIN:VTIMEZONE
TZID:America/New_York
BEGIN:DAYLIGHT
TZOFFSETFROM:-0500
TZOFFSETTO:-0400
TZNAME:EDT
DTSTART:20200308T070000
END:DAYLIGHT
BEGIN:STANDARD
TZOFFSETFROM:-0400
TZOFFSETTO:-0500
TZNAME:EST
DTSTART:20201101T060000
END:STANDARD
BEGIN:DAYLIGHT
TZOFFSETFROM:-0500
TZOFFSETTO:-0400
TZNAME:EDT
DTSTART:20210314T070000
END:DAYLIGHT
BEGIN:STANDARD
TZOFFSETFROM:-0400
TZOFFSETTO:-0500
TZNAME:EST
DTSTART:20211107T060000
END:STANDARD
BEGIN:DAYLIGHT
TZOFFSETFROM:-0500
TZOFFSETTO:-0400
TZNAME:EDT
DTSTART:20220313T070000
END:DAYLIGHT
BEGIN:STANDARD
TZOFFSETFROM:-0400
TZOFFSETTO:-0500
TZNAME:EST
DTSTART:20221106T060000
END:STANDARD
END:VTIMEZONE
BEGIN:VEVENT
DTSTART;TZID=America/New_York:20210420T040000
DTEND;TZID=America/New_York:20210420T120000
DTSTAMP:20260424T211017
CREATED:20201216T035005Z
LAST-MODIFIED:20210415T030420Z
UID:6776-1618891200-1618920000@michiganidc.gov
SUMMARY:MIDC Meeting
DESCRIPTION:Agenda and Materials \nThis meeting will be held online via Zoom pursuant to Ingham County’s state of emergency resolution #21-138 [.pdf document]. \nJoin Zoom Meeting\nhttps://us02web.zoom.us/j/89378165701 \nMeeting ID: 893 7816 5701\nOne tap mobile\n+19292056099\,\,89378165701# US (New York)\n+13017158592\,\,89378165701# US (Washington DC) \n  \n 
URL:https://michiganidc.gov/calendar/midc-meeting-10/
LOCATION:Online
CATEGORIES:Commission Meetings
ORGANIZER;CN="MIDC":MAILTO:DownerJ1@michigan.gov
END:VEVENT
END:VCALENDAR