BEGIN:VCALENDAR
VERSION:2.0
PRODID:-//Michigan Indigent Defense Commission - ECPv6.15.20//NONSGML v1.0//EN
CALSCALE:GREGORIAN
METHOD:PUBLISH
X-WR-CALNAME:Michigan Indigent Defense Commission
X-ORIGINAL-URL:https://michiganidc.gov
X-WR-CALDESC:Events for Michigan Indigent Defense Commission
REFRESH-INTERVAL;VALUE=DURATION:PT1H
X-Robots-Tag:noindex
X-PUBLISHED-TTL:PT1H
BEGIN:VTIMEZONE
TZID:America/New_York
BEGIN:DAYLIGHT
TZOFFSETFROM:-0500
TZOFFSETTO:-0400
TZNAME:EDT
DTSTART:20200308T070000
END:DAYLIGHT
BEGIN:STANDARD
TZOFFSETFROM:-0400
TZOFFSETTO:-0500
TZNAME:EST
DTSTART:20201101T060000
END:STANDARD
BEGIN:DAYLIGHT
TZOFFSETFROM:-0500
TZOFFSETTO:-0400
TZNAME:EDT
DTSTART:20210314T070000
END:DAYLIGHT
BEGIN:STANDARD
TZOFFSETFROM:-0400
TZOFFSETTO:-0500
TZNAME:EST
DTSTART:20211107T060000
END:STANDARD
BEGIN:DAYLIGHT
TZOFFSETFROM:-0500
TZOFFSETTO:-0400
TZNAME:EDT
DTSTART:20220313T070000
END:DAYLIGHT
BEGIN:STANDARD
TZOFFSETFROM:-0400
TZOFFSETTO:-0500
TZNAME:EST
DTSTART:20221106T060000
END:STANDARD
END:VTIMEZONE
BEGIN:VEVENT
DTSTART;TZID=America/New_York:20210708T040000
DTEND;TZID=America/New_York:20210708T060000
DTSTAMP:20260424T232518
CREATED:20210701T161430Z
LAST-MODIFIED:20210707T201835Z
UID:7002-1625716800-1625724000@michiganidc.gov
SUMMARY:MIDC Special Meeting
DESCRIPTION:Agenda and materials \nThis meeting will be held remotely by Zoom \nJoin Zoom Meeting\nhttps://us02web.zoom.us/j/83812104771 \nMeeting ID: 838 1210 4771\nOne tap mobile\n+13017158592\,\,83812104771# US (Washington DC)\n+13126266799\,\,83812104771# US (Chicago) \n  \nThis meeting will be conducted remotely and consistent with City of Lansing Resolution #2021-081.  Persons who wish to contact members of the Commission to provide input or ask questions on any business that will come before the public body at the meeting should send an email to LARA-MIDC-Info@michigan.gov.
URL:https://michiganidc.gov/calendar/midc-special-meeting-2/
LOCATION:Online
CATEGORIES:Commission Meetings
ORGANIZER;CN="MIDC":MAILTO:DownerJ1@michigan.gov
END:VEVENT
END:VCALENDAR