BEGIN:VCALENDAR
VERSION:2.0
PRODID:-//Michigan Indigent Defense Commission - ECPv6.15.20//NONSGML v1.0//EN
CALSCALE:GREGORIAN
METHOD:PUBLISH
X-ORIGINAL-URL:https://michiganidc.gov
X-WR-CALDESC:Events for Michigan Indigent Defense Commission
REFRESH-INTERVAL;VALUE=DURATION:PT1H
X-Robots-Tag:noindex
X-PUBLISHED-TTL:PT1H
BEGIN:VTIMEZONE
TZID:America/New_York
BEGIN:DAYLIGHT
TZOFFSETFROM:-0500
TZOFFSETTO:-0400
TZNAME:EDT
DTSTART:20210314T070000
END:DAYLIGHT
BEGIN:STANDARD
TZOFFSETFROM:-0400
TZOFFSETTO:-0500
TZNAME:EST
DTSTART:20211107T060000
END:STANDARD
BEGIN:DAYLIGHT
TZOFFSETFROM:-0500
TZOFFSETTO:-0400
TZNAME:EDT
DTSTART:20220313T070000
END:DAYLIGHT
BEGIN:STANDARD
TZOFFSETFROM:-0400
TZOFFSETTO:-0500
TZNAME:EST
DTSTART:20221106T060000
END:STANDARD
BEGIN:DAYLIGHT
TZOFFSETFROM:-0500
TZOFFSETTO:-0400
TZNAME:EDT
DTSTART:20230312T070000
END:DAYLIGHT
BEGIN:STANDARD
TZOFFSETFROM:-0400
TZOFFSETTO:-0500
TZNAME:EST
DTSTART:20231105T060000
END:STANDARD
END:VTIMEZONE
BEGIN:VEVENT
DTSTART;TZID=America/New_York:20220621T090000
DTEND;TZID=America/New_York:20220621T170000
DTSTAMP:20260425T074406
CREATED:20220112T184109Z
LAST-MODIFIED:20220615T133444Z
UID:7330-1655802000-1655830800@michiganidc.gov
SUMMARY:MIDC Meeting
DESCRIPTION:The Michigan Indigent Defense Commission will meet on Tuesday June 21\, 2022 beginning at 9:00 a.m. \nAgenda and materials June 2022 \nLocation:\nMichigan Bankers Association Building\n507 S Grand Ave\, Lansing\, MI 48933 \nOnline Access: For members of the public who wish to join the meeting online\, please request a Zoom link by contacting Marcela Westrate at WestrateM1@michigan.gov or text or call (517) 648-3143 and leave a message with your email address. The link will be provided in the morning before the meeting begins. \nFree parking is available in the lot at the southeast corner of Grand and Lenawee. Free\, handicap-accessible parking and an accessible entrance to the building is available in the same lot but enter at the southwest corner of Cherry at Lenawee. \nFor any questions or concerns or to contact the Commission\, please email Marcela Westrate at WestrateM1@michigan.gov or call (517) 648-3143.
URL:https://michiganidc.gov/calendar/midc-meeting-17/
LOCATION:Michigan Bankers Association\, 507 S Grand Avenue\, Lansing\, MI\, 48933\, United States
CATEGORIES:Commission Meetings
ORGANIZER;CN="MIDC":MAILTO:DownerJ1@michigan.gov
END:VEVENT
END:VCALENDAR