BEGIN:VCALENDAR
VERSION:2.0
PRODID:-//Michigan Indigent Defense Commission - ECPv6.15.20//NONSGML v1.0//EN
CALSCALE:GREGORIAN
METHOD:PUBLISH
X-ORIGINAL-URL:https://michiganidc.gov
X-WR-CALDESC:Events for Michigan Indigent Defense Commission
REFRESH-INTERVAL;VALUE=DURATION:PT1H
X-Robots-Tag:noindex
X-PUBLISHED-TTL:PT1H
BEGIN:VTIMEZONE
TZID:America/New_York
BEGIN:DAYLIGHT
TZOFFSETFROM:-0500
TZOFFSETTO:-0400
TZNAME:EDT
DTSTART:20200308T070000
END:DAYLIGHT
BEGIN:STANDARD
TZOFFSETFROM:-0400
TZOFFSETTO:-0500
TZNAME:EST
DTSTART:20201101T060000
END:STANDARD
BEGIN:DAYLIGHT
TZOFFSETFROM:-0500
TZOFFSETTO:-0400
TZNAME:EDT
DTSTART:20210314T070000
END:DAYLIGHT
BEGIN:STANDARD
TZOFFSETFROM:-0400
TZOFFSETTO:-0500
TZNAME:EST
DTSTART:20211107T060000
END:STANDARD
BEGIN:DAYLIGHT
TZOFFSETFROM:-0500
TZOFFSETTO:-0400
TZNAME:EDT
DTSTART:20220313T070000
END:DAYLIGHT
BEGIN:STANDARD
TZOFFSETFROM:-0400
TZOFFSETTO:-0500
TZNAME:EST
DTSTART:20221106T060000
END:STANDARD
END:VTIMEZONE
BEGIN:VEVENT
DTSTART;TZID=America/New_York:20211029T033000
DTEND;TZID=America/New_York:20211029T120000
DTSTAMP:20260424T214308
CREATED:20211026T024558Z
LAST-MODIFIED:20211028T171047Z
UID:7189-1635478200-1635508800@michiganidc.gov
SUMMARY:Special Meeting: Executive Director Interviews
DESCRIPTION:The purpose of this meeting is to interview candidates for the Executive Director position. \nThere will be an option for Commissioners to join by zoom if necessary and/or allowed pursuant to an exemption under the Open Meetings Act.  All interested members of the public are strongly encouraged to join by zoom. \nAgenda and Materials \nLocation:\nMichigan Bankers Association Building\n507 S Grand Ave\, Lansing\, MI 48933 \n\nFree parking is available in the lot at the southeast corner of Grand and Lenawee.  Free\, handicap-accessible parking and an accessible entrance to the building is available in the same lot but enter at the southwest corner of Cherry at Lenawee. \nState of Michigan business is being conducted at this meeting.   In an effort to keep the workplace safe\, employees\, staff and contractors working on behalf of the State of Michigan must wear a mask if attending the meeting in person regardless of vaccination status unless the normal exemptions apply. \n\nIn response to the ongoing risk posed by COVID-19\, in an effort to reduce transmission of COVID-19 and protect the health of Commissioners\, MIDC staff\, and members of the public interested in attending the meeting\, access to the Commission will also be available remotely.  For any questions or concerns or to contact the Commission\, please email Marcela Westrate at WestrateM1@michigan.gov or call (517) 648-3143.\n \nIndividuals wishing to provide input or ask questions on any business before the Commission may participate in person\, by telephone or Zoom. \n— \nTopic: MIDC Executive Director Interviews\nTime: Oct 29\, 2021 08:30 AM Eastern Time (US and Canada) \nJoin Zoom Meeting\nhttps://us02web.zoom.us/j/82778329448 \nMeeting ID: 827 7832 9448\nOne tap mobile\n+13126266799\,\,82778329448# US (Chicago)\n+19292056099\,\,82778329448# US (New York) \nNote: Upon joining the meeting by Zoom\, all participants will momentarily be placed in a waiting room and admitted by the host.
URL:https://michiganidc.gov/calendar/special-meeting-executive-director-interviews/
LOCATION:Michigan Bankers Association\, 507 S Grand Avenue\, Lansing\, MI\, 48933\, United States
CATEGORIES:Commission Meetings
ORGANIZER;CN="MIDC":MAILTO:DownerJ1@michigan.gov
END:VEVENT
END:VCALENDAR