BEGIN:VCALENDAR
VERSION:2.0
PRODID:-//Michigan Indigent Defense Commission - ECPv6.15.20//NONSGML v1.0//EN
CALSCALE:GREGORIAN
METHOD:PUBLISH
X-ORIGINAL-URL:https://michiganidc.gov
X-WR-CALDESC:Events for Michigan Indigent Defense Commission
REFRESH-INTERVAL;VALUE=DURATION:PT1H
X-Robots-Tag:noindex
X-PUBLISHED-TTL:PT1H
BEGIN:VTIMEZONE
TZID:America/New_York
BEGIN:DAYLIGHT
TZOFFSETFROM:-0500
TZOFFSETTO:-0400
TZNAME:EDT
DTSTART:20230312T070000
END:DAYLIGHT
BEGIN:STANDARD
TZOFFSETFROM:-0400
TZOFFSETTO:-0500
TZNAME:EST
DTSTART:20231105T060000
END:STANDARD
BEGIN:DAYLIGHT
TZOFFSETFROM:-0500
TZOFFSETTO:-0400
TZNAME:EDT
DTSTART:20240310T070000
END:DAYLIGHT
BEGIN:STANDARD
TZOFFSETFROM:-0400
TZOFFSETTO:-0500
TZNAME:EST
DTSTART:20241103T060000
END:STANDARD
BEGIN:DAYLIGHT
TZOFFSETFROM:-0500
TZOFFSETTO:-0400
TZNAME:EDT
DTSTART:20250309T070000
END:DAYLIGHT
BEGIN:STANDARD
TZOFFSETFROM:-0400
TZOFFSETTO:-0500
TZNAME:EST
DTSTART:20251102T060000
END:STANDARD
END:VTIMEZONE
BEGIN:VEVENT
DTSTART;TZID=America/New_York:20240820T093000
DTEND;TZID=America/New_York:20240820T170000
DTSTAMP:20260425T083535
CREATED:20240105T125507Z
LAST-MODIFIED:20240815T014634Z
UID:8460-1724146200-1724173200@michiganidc.gov
SUMMARY:MIDC Meeting
DESCRIPTION:The Michigan Indigent Defense Commission will meet on Tuesday August 20\, 2024 beginning at 9:30 a.m. \nAgenda and Materials August 2024 \nLocation:\nMichigan Bankers Association Building\n507 S Grand Ave\, Lansing\, MI 48933 \nOnline Access: For members of the public who wish to join the meeting online\, please request a Zoom link by contacting Marcela Westrate at WestrateM1@michigan.gov or text or call (517) 648-3143 and leave a message with your email address. The link will be provided in the morning before the meeting begins. \nFree parking is available in the lot at the southeast corner of Grand and Lenawee. Free\, handicap-accessible parking and an accessible entrance to the building is available in the same lot but enter at the southwest corner of Cherry at Lenawee. \nFor any questions or concerns or to contact the Commission\, please email Marcela Westrate at WestrateM1@michigan.gov or call (517) 648-3143.
URL:https://michiganidc.gov/calendar/midc-meeting-30/
LOCATION:Michigan Bankers Association\, 507 S Grand Avenue\, Lansing\, MI\, 48933\, United States
CATEGORIES:Commission Meetings
ORGANIZER;CN="MIDC":MAILTO:DownerJ1@michigan.gov
END:VEVENT
BEGIN:VEVENT
DTSTART;TZID=America/New_York:20241015T093000
DTEND;TZID=America/New_York:20241015T170000
DTSTAMP:20260425T083535
CREATED:20240105T125550Z
LAST-MODIFIED:20241009T183042Z
UID:8463-1728984600-1729011600@michiganidc.gov
SUMMARY:MIDC Meeting
DESCRIPTION:The Michigan Indigent Defense Commission will meet on Tuesday October 15\, 2024 beginning at 9:30 a.m.\n\n\nAgenda and Materials October 2024 \nLocation:\nMichigan Bankers Association Building\n507 S Grand Ave\, Lansing\, MI 48933 \nOnline Access: For members of the public who wish to join the meeting online\, please request a Zoom link by contacting Jacklyn Downer at DownerJ1@michigan.gov or text or call (517) 582-1741 and leave a message with your email address. The link will be provided in the morning before the meeting begins. \nFree parking is available in the lot at the southeast corner of Grand and Lenawee. Free\, handicap-accessible parking and an accessible entrance to the building is available in the same lot but enter at the southwest corner of Cherry at Lenawee. \nFor any questions or concerns or to contact the Commission\, please email Jacklyn Downer at DownerJ1@michigan.gov or call (517) 582-1741.
URL:https://michiganidc.gov/calendar/midc-meeting-31/
LOCATION:Michigan Bankers Association\, 507 S Grand Avenue\, Lansing\, MI\, 48933\, United States
CATEGORIES:Commission Meetings
ORGANIZER;CN="MIDC":MAILTO:DownerJ1@michigan.gov
END:VEVENT
BEGIN:VEVENT
DTSTART;TZID=America/New_York:20241217T080000
DTEND;TZID=America/New_York:20241217T170000
DTSTAMP:20260425T083535
CREATED:20240105T125709Z
LAST-MODIFIED:20241216T170618Z
UID:8466-1734422400-1734454800@michiganidc.gov
SUMMARY:MIDC Meeting
DESCRIPTION:The Michigan Indigent Defense Commission will meet on Tuesday December 17\, 2024 beginning at 9:30 a.m.\nAgenda and Materials \n\n\nLocation:\nMichigan Bankers Association Building\n507 S Grand Ave\, Lansing\, MI 48933 \nOnline Access: For members of the public who wish to join the meeting online\, please request a Zoom link by contacting Jacklyn Downer at DownerJ1@michigan.gov or text or call (517) 582-1741 and leave a message with your email address. The link will be provided in the morning before the meeting begins. \nFree parking is available in the lot at the southeast corner of Grand and Lenawee. Free\, handicap-accessible parking and an accessible entrance to the building is available in the same lot but enter at the southwest corner of Cherry at Lenawee. \nFor any questions or concerns or to contact the Commission\, please email Jacklyn Downer at DownerJ1@michigan.gov or call (517) 582-1741.
URL:https://michiganidc.gov/calendar/midc-meeting-32/
LOCATION:Michigan Bankers Association\, 507 S Grand Avenue\, Lansing\, MI\, 48933\, United States
CATEGORIES:Commission Meetings
ORGANIZER;CN="MIDC":MAILTO:DownerJ1@michigan.gov
END:VEVENT
END:VCALENDAR