BEGIN:VCALENDAR
VERSION:2.0
PRODID:-//Michigan Indigent Defense Commission - ECPv6.15.20//NONSGML v1.0//EN
CALSCALE:GREGORIAN
METHOD:PUBLISH
X-WR-CALNAME:Michigan Indigent Defense Commission
X-ORIGINAL-URL:https://michiganidc.gov
X-WR-CALDESC:Events for Michigan Indigent Defense Commission
REFRESH-INTERVAL;VALUE=DURATION:PT1H
X-Robots-Tag:noindex
X-PUBLISHED-TTL:PT1H
BEGIN:VTIMEZONE
TZID:America/New_York
BEGIN:DAYLIGHT
TZOFFSETFROM:-0500
TZOFFSETTO:-0400
TZNAME:EDT
DTSTART:20140309T070000
END:DAYLIGHT
BEGIN:STANDARD
TZOFFSETFROM:-0400
TZOFFSETTO:-0500
TZNAME:EST
DTSTART:20141102T060000
END:STANDARD
BEGIN:DAYLIGHT
TZOFFSETFROM:-0500
TZOFFSETTO:-0400
TZNAME:EDT
DTSTART:20150308T070000
END:DAYLIGHT
BEGIN:STANDARD
TZOFFSETFROM:-0400
TZOFFSETTO:-0500
TZNAME:EST
DTSTART:20151101T060000
END:STANDARD
BEGIN:DAYLIGHT
TZOFFSETFROM:-0500
TZOFFSETTO:-0400
TZNAME:EDT
DTSTART:20160313T070000
END:DAYLIGHT
BEGIN:STANDARD
TZOFFSETFROM:-0400
TZOFFSETTO:-0500
TZNAME:EST
DTSTART:20161106T060000
END:STANDARD
END:VTIMEZONE
BEGIN:VEVENT
DTSTART;VALUE=DATE:20151112
DTEND;VALUE=DATE:20151115
DTSTAMP:20260424T161349
CREATED:20150514T012227Z
LAST-MODIFIED:20151002T221133Z
UID:3509-1447286400-1447545599@michiganidc.gov
SUMMARY:CDAM Fall Conference
DESCRIPTION:Twice each year\, the Criminal Defense Attorneys of Michigan offer an extensive three day training event covering the latest topics in criminal law\, legal updates\, and critical information to use in every day practice.  Registration is open for the Fall 2015 conference in Traverse City\, Michigan.  MIDC Executive Director Jonathan Sacks will provide an update on the work of the Michigan Indigent Defense Commission on Friday November 13\, 2015.  Register today! \n2015 Fall Conference Brochure
URL:https://michiganidc.gov/calendar/cdam-fall-conference/
LOCATION:Park Place Hotel\, Traverse City\, MI\, United States
END:VEVENT
END:VCALENDAR