BEGIN:VCALENDAR
VERSION:2.0
PRODID:-//Michigan Indigent Defense Commission - ECPv5.6.0//NONSGML v1.0//EN
CALSCALE:GREGORIAN
METHOD:PUBLISH
X-WR-CALNAME:Michigan Indigent Defense Commission
X-ORIGINAL-URL:https://michiganidc.gov
X-WR-CALDESC:Events for Michigan Indigent Defense Commission
BEGIN:VTIMEZONE
TZID:UTC
BEGIN:STANDARD
TZOFFSETFROM:+0000
TZOFFSETTO:+0000
TZNAME:UTC
DTSTART:20200101T000000
END:STANDARD
END:VTIMEZONE
BEGIN:VEVENT
DTSTART;TZID=UTC:20200421T110000
DTEND;TZID=UTC:20200421T170000
DTSTAMP:20210515T085154
CREATED:20200107T220952Z
LAST-MODIFIED:20200415T194623Z
UID:6168-1587466800-1587488400@michiganidc.gov
SUMMARY:Commission Meeting
DESCRIPTION:Agenda & Materials 4.21.20 Meeting \nhttps://zoom.us/j/99205858758 \nMeeting ID: 992 0585 8758 \nOne tap mobile \n+19292056099\,\,99205858758# US (New York) \n 
URL:https://michiganidc.gov/calendar/commission-meeting-23/
LOCATION:Online
CATEGORIES:Commission Meetings
ORGANIZER;CN="MIDC":MAILTO:MitchellD20@michigan.gov
END:VEVENT
END:VCALENDAR