BEGIN:VCALENDAR
VERSION:2.0
PRODID:-//Michigan Indigent Defense Commission - ECPv6.15.20//NONSGML v1.0//EN
CALSCALE:GREGORIAN
METHOD:PUBLISH
X-WR-CALNAME:Michigan Indigent Defense Commission
X-ORIGINAL-URL:https://michiganidc.gov
X-WR-CALDESC:Events for Michigan Indigent Defense Commission
REFRESH-INTERVAL;VALUE=DURATION:PT1H
X-Robots-Tag:noindex
X-PUBLISHED-TTL:PT1H
BEGIN:VTIMEZONE
TZID:America/New_York
BEGIN:DAYLIGHT
TZOFFSETFROM:-0500
TZOFFSETTO:-0400
TZNAME:EDT
DTSTART:20160313T070000
END:DAYLIGHT
BEGIN:STANDARD
TZOFFSETFROM:-0400
TZOFFSETTO:-0500
TZNAME:EST
DTSTART:20161106T060000
END:STANDARD
BEGIN:DAYLIGHT
TZOFFSETFROM:-0500
TZOFFSETTO:-0400
TZNAME:EDT
DTSTART:20170312T070000
END:DAYLIGHT
BEGIN:STANDARD
TZOFFSETFROM:-0400
TZOFFSETTO:-0500
TZNAME:EST
DTSTART:20171105T060000
END:STANDARD
BEGIN:DAYLIGHT
TZOFFSETFROM:-0500
TZOFFSETTO:-0400
TZNAME:EDT
DTSTART:20180311T070000
END:DAYLIGHT
BEGIN:STANDARD
TZOFFSETFROM:-0400
TZOFFSETTO:-0500
TZNAME:EST
DTSTART:20181104T060000
END:STANDARD
BEGIN:DAYLIGHT
TZOFFSETFROM:-0500
TZOFFSETTO:-0400
TZNAME:EDT
DTSTART:20190310T070000
END:DAYLIGHT
BEGIN:STANDARD
TZOFFSETFROM:-0400
TZOFFSETTO:-0500
TZNAME:EST
DTSTART:20191103T060000
END:STANDARD
BEGIN:DAYLIGHT
TZOFFSETFROM:-0500
TZOFFSETTO:-0400
TZNAME:EDT
DTSTART:20200308T070000
END:DAYLIGHT
BEGIN:STANDARD
TZOFFSETFROM:-0400
TZOFFSETTO:-0500
TZNAME:EST
DTSTART:20201101T060000
END:STANDARD
END:VTIMEZONE
BEGIN:VEVENT
DTSTART;TZID=America/New_York:20191002T073000
DTEND;TZID=America/New_York:20191002T083000
DTSTAMP:20260425T112903
CREATED:20190918T004704Z
LAST-MODIFIED:20191002T004259Z
UID:6013-1570001400-1570005000@michiganidc.gov
SUMMARY:MIDC Q4 Reporting Webinar #1 of 3
DESCRIPTION:The MIDC staff will host webinars designed to answer all of the most frequently asked questions about the final grant reporting due for FY19. In addition to information about the final program report\, staff will provide details about financial reporting including unspent grant dollars\, reporting the balance in your 260 fund\, and transitioning between grant contract fiscal years. \nThis session WILL be repeated and recorded to allow for maximum participation. \n\n\n\n\nRegister for the October 2\, 2019 webinar (12:30 – 1:30 p.m.)\n\n\n\nPlease note: Attendees registered for a webinar will receive a link to log into the session the morning of the event. \nMIDC 4Q reporting webinar Oct 2019 handout
URL:https://michiganidc.gov/calendar/midc-q4-reporting-webinar-1-of-3/
LOCATION:Webinar
ORGANIZER;CN="MIDC":MAILTO:MitchellD20@michigan.gov
END:VEVENT
BEGIN:VEVENT
DTSTART;TZID=America/New_York:20190813T060000
DTEND;TZID=America/New_York:20190813T120000
DTSTAMP:20260425T112903
CREATED:20181221T033227Z
LAST-MODIFIED:20190806T212138Z
UID:5690-1565676000-1565697600@michiganidc.gov
SUMMARY:MIDC Meeting
DESCRIPTION:NOTE LOCATION: Ottawa Building UL Room 3 \n** PLEASE NOTE THE CHANGE IN LOCATION. For members of the public attending the meeting\, when you enter the building\, please tell the person at the security desk that you are attending an open meeting. You will not be required to sign in or show identification.**
URL:https://michiganidc.gov/calendar/midc-meeting-7/
LOCATION:Ottawa Building\, 611 Ottawa Street\, Lansing\, MI\, United States
CATEGORIES:Commission Meetings
ORGANIZER;CN="MIDC":MAILTO:MitchellD20@michigan.gov
END:VEVENT
BEGIN:VEVENT
DTSTART;TZID=America/New_York:20190723T060000
DTEND;TZID=America/New_York:20190723T090000
DTSTAMP:20260425T112903
CREATED:20190613T005946Z
LAST-MODIFIED:20190613T010031Z
UID:5955-1563861600-1563872400@michiganidc.gov
SUMMARY:MIDC Meeting
DESCRIPTION:
URL:https://michiganidc.gov/calendar/commission-meeting-21/
LOCATION:MIDC Office\, 200 N Washington\, Lansing\, MI\, United States
ORGANIZER;CN="MIDC":MAILTO:MitchellD20@michigan.gov
END:VEVENT
BEGIN:VEVENT
DTSTART;TZID=America/New_York:20190618T060000
DTEND;TZID=America/New_York:20190618T120000
DTSTAMP:20260425T112903
CREATED:20181221T033141Z
LAST-MODIFIED:20190613T010108Z
UID:5687-1560837600-1560859200@michiganidc.gov
SUMMARY:MIDC Meeting
DESCRIPTION:Agenda June 18\, 2019
URL:https://michiganidc.gov/calendar/midc-meeting-6/
LOCATION:MIDC Office\, 200 N Washington\, Lansing\, MI\, United States
CATEGORIES:Commission Meetings
ORGANIZER;CN="MIDC":MAILTO:MitchellD20@michigan.gov
END:VEVENT
BEGIN:VEVENT
DTSTART;TZID=America/New_York:20190416T060000
DTEND;TZID=America/New_York:20190416T120000
DTSTAMP:20260425T112903
CREATED:20181221T033024Z
LAST-MODIFIED:20181221T033024Z
UID:5683-1555394400-1555416000@michiganidc.gov
SUMMARY:MIDC Meeting
DESCRIPTION:
URL:https://michiganidc.gov/calendar/midc-meeting-5/
LOCATION:MIDC Office\, 200 N Washington\, Lansing\, MI\, United States
CATEGORIES:Commission Meetings
ORGANIZER;CN="MIDC":MAILTO:MitchellD20@michigan.gov
END:VEVENT
BEGIN:VEVENT
DTSTART;TZID=America/New_York:20190308T090000
DTEND;TZID=America/New_York:20190308T100000
DTSTAMP:20260425T112903
CREATED:20190226T021316Z
LAST-MODIFIED:20190226T022036Z
UID:5820-1552035600-1552039200@michiganidc.gov
SUMMARY:Compliance Reporting Webinar
DESCRIPTION:The Michigan Indigent Defense Commission’s staff members are pleased to offer a session answering the most common questions we’ve received for the upcoming reporting requirements due in April 2019.  Join us for an interactive online session facilitated by our Research Director\, Dr. Jonah Siegel\, and Research Associate Chris Sadler.  Our team of Regional Managers will participate as well. \nThis session will be recorded.  Space is limited. \nRegister here. \nPLEASE NOTE: You will receive the link to log into the webinar the morning of the session.
URL:https://michiganidc.gov/calendar/compliance-reporting-webinar/
LOCATION:Webinar
ORGANIZER;CN="MIDC":MAILTO:MitchellD20@michigan.gov
END:VEVENT
BEGIN:VEVENT
DTSTART;TZID=America/New_York:20190212T060000
DTEND;TZID=America/New_York:20190212T120000
DTSTAMP:20260425T112903
CREATED:20181221T032908Z
LAST-MODIFIED:20190208T072057Z
UID:5680-1549951200-1549972800@michiganidc.gov
SUMMARY:MIDC Meeting
DESCRIPTION:Agenda
URL:https://michiganidc.gov/calendar/midc-meeting-4/
LOCATION:MIDC Office\, 200 N Washington\, Lansing\, MI\, United States
CATEGORIES:Commission Meetings
ORGANIZER;CN="MIDC":MAILTO:MitchellD20@michigan.gov
END:VEVENT
BEGIN:VEVENT
DTSTART;VALUE=DATE:20190207
DTEND;VALUE=DATE:20190209
DTSTAMP:20260425T112903
CREATED:20181208T031919Z
LAST-MODIFIED:20190211T180201Z
UID:5626-1549566000-1549652399@michiganidc.gov
SUMMARY:MIDC's First Annual Leadership Conference
DESCRIPTION:A discussion of progress on implementing plans for compliance with the MIDC’s standards during the first year of funding from the State of Michigan. \nWe invited all leaders from public defender offices (Chiefs or Deputy Directors) and systems with independent administration of indigent defense services (Managed Assigned Counsel Administrators) to a day-long learning session in Lansing. \nMaterials: \nAgenda \nMIDC Leadership Conference Source Materials Feb 2019 \nMcCowan Slides MIDC Leadership 2019 – updated \nJennifer France – Chippewa PD slides \nMATCP_MIDC_020819 slides \n  \nFor all questions or concerns\, contact Marla McCowan at mmccowan@michiganidc.gov or 517-388-6702
URL:https://michiganidc.gov/calendar/midcs-first-annual-leadership-conference/
LOCATION:State of Michigan Operations Center\, 7285 Parsons Drive\, Dimondale\, MI\, 48821\, United States
ORGANIZER;CN="MIDC":MAILTO:MitchellD20@michigan.gov
END:VEVENT
BEGIN:VEVENT
DTSTART;TZID=America/New_York:20190111T100000
DTEND;TZID=America/New_York:20190111T120000
DTSTAMP:20260425T112903
CREATED:20190109T074231Z
LAST-MODIFIED:20190109T074231Z
UID:5719-1547200800-1547208000@michiganidc.gov
SUMMARY:MIDC Special Meeting
DESCRIPTION:Notice
URL:https://michiganidc.gov/calendar/midc-special-meeting/
LOCATION:MIDC Office\, 200 N Washington\, Lansing\, MI\, United States
ORGANIZER;CN="MIDC":MAILTO:MitchellD20@michigan.gov
END:VEVENT
BEGIN:VEVENT
DTSTART;TZID=America/New_York:20190111T073000
DTEND;TZID=America/New_York:20190111T083000
DTSTAMP:20260425T112903
CREATED:20181208T031206Z
LAST-MODIFIED:20181208T031206Z
UID:5621-1547191800-1547195400@michiganidc.gov
SUMMARY:First Quarter Grant Reporting Workshop Webinar #3
DESCRIPTION:The MIDC staff will provide an overview of the reporting requirements for the first quarter of the FY19 grant year.  The first quarter reports are due January 15\, 2019.  We are offering these interactive webinar sessions at three different times for your convenience.  All sessions will be identical in content. \nWHEN YOU REGISTER\, YOU WILL RECEIVE A LINK TO THE SESSION THE MORNING OF THE WEBINAR. \nRegister here for the session on January 11\, 2019 from 12:30 p.m. – 1:30 p.m. EST. \n 
URL:https://michiganidc.gov/calendar/first-quarter-grant-reporting-workshop-webinar-3/
LOCATION:Webinar
ORGANIZER;CN="MIDC":MAILTO:MitchellD20@michigan.gov
END:VEVENT
BEGIN:VEVENT
DTSTART;TZID=America/New_York:20190109T100000
DTEND;TZID=America/New_York:20190109T110000
DTSTAMP:20260425T112903
CREATED:20181208T030940Z
LAST-MODIFIED:20181208T031244Z
UID:5618-1547028000-1547031600@michiganidc.gov
SUMMARY:First Quarter Grant Reporting Workshop Webinar #2
DESCRIPTION:The MIDC staff will provide an overview of the reporting requirements for the first quarter of the FY19 grant year.  The first quarter reports are due January 15\, 2019.  We are offering these interactive webinar sessions at three different times for your convenience.  All sessions will be identical in content. \nWHEN YOU REGISTER\, YOU WILL RECEIVE A LINK TO THE SESSION THE MORNING OF THE WEBINAR. \nRegister here for the session on January 9\, 2019 from 3:00 p.m. – 4:00 p.m. EST. \n 
URL:https://michiganidc.gov/calendar/first-quarter-grant-reporting-workshop-webinar-2/
LOCATION:Webinar
ORGANIZER;CN="MIDC":MAILTO:MitchellD20@michigan.gov
END:VEVENT
BEGIN:VEVENT
DTSTART;TZID=America/New_York:20190109T043000
DTEND;TZID=America/New_York:20190109T053000
DTSTAMP:20260425T112903
CREATED:20181208T030640Z
LAST-MODIFIED:20181208T031317Z
UID:5615-1547008200-1547011800@michiganidc.gov
SUMMARY:First Quarter Grant Reporting Workshop Webinar #1
DESCRIPTION:The MIDC staff will provide an overview of the reporting requirements for the first quarter of the FY19 grant year.  The first quarter reports are due January 15\, 2019.  We are offering these interactive webinar sessions at three different times for your convenience.  All sessions will be identical in content. \nWHEN YOU REGISTER\, YOU WILL RECEIVE A LINK TO THE SESSION THE MORNING OF THE WEBINAR. \nRegister here for the session on January 9\, 2019 from 9:30 a.m. – 10:30 a.m. EST. \n 
URL:https://michiganidc.gov/calendar/first-quarter-grant-reporting-workshop-webinar-1/
LOCATION:Webinar
ORGANIZER;CN="MIDC":MAILTO:MitchellD20@michigan.gov
END:VEVENT
BEGIN:VEVENT
DTSTART;TZID=America/New_York:20181218T080000
DTEND;TZID=America/New_York:20181218T120000
DTSTAMP:20260425T112903
CREATED:20180111T004237Z
LAST-MODIFIED:20181213T034747Z
UID:5269-1545120000-1545134400@michiganidc.gov
SUMMARY:Commission Meeting
DESCRIPTION:Agenda December 18\, 2018
URL:https://michiganidc.gov/calendar/commission-meeting-20/
LOCATION:MIDC Office\, 200 N Washington\, Lansing\, MI\, United States
ORGANIZER;CN="MIDC":MAILTO:MitchellD20@michigan.gov
END:VEVENT
BEGIN:VEVENT
DTSTART;TZID=America/New_York:20181016T080000
DTEND;TZID=America/New_York:20181016T120000
DTSTAMP:20260425T112903
CREATED:20180111T004052Z
LAST-MODIFIED:20180111T004052Z
UID:5267-1539676800-1539691200@michiganidc.gov
SUMMARY:Commission Meeting
DESCRIPTION:
URL:https://michiganidc.gov/calendar/commission-meeting-19/
LOCATION:MIDC Office\, 200 N Washington\, Lansing\, MI\, United States
ORGANIZER;CN="MIDC":MAILTO:MitchellD20@michigan.gov
END:VEVENT
BEGIN:VEVENT
DTSTART;TZID=America/New_York:20180914T100000
DTEND;TZID=America/New_York:20180914T110000
DTSTAMP:20260425T112903
CREATED:20180824T230141Z
LAST-MODIFIED:20180824T230141Z
UID:5463-1536919200-1536922800@michiganidc.gov
SUMMARY:MIDC Compliance Plan Reporting and Grant Distribution Information (South Central Michigan)
DESCRIPTION:Please join us for an informational session about MIDC compliance plan implementation and grant reporting requirements scheduled to begin in October 2018. This session will be moderated by Marla McCowan\, Director of Training\, Outreach & Support\, and the MIDC’s Grant Manager Rebecca Mack. Regional Manager Kristen Staley will be monitoring questions during this interactive presentation. \nRSVP here.
URL:https://michiganidc.gov/calendar/midc-compliance-plan-reporting-and-grant-distribution-information-south-central-michigan/
LOCATION:Webinar
ORGANIZER;CN="MIDC":MAILTO:MitchellD20@michigan.gov
END:VEVENT
BEGIN:VEVENT
DTSTART;TZID=America/New_York:20180914T043000
DTEND;TZID=America/New_York:20180914T053000
DTSTAMP:20260425T112903
CREATED:20180824T225454Z
LAST-MODIFIED:20180824T225454Z
UID:5461-1536899400-1536903000@michiganidc.gov
SUMMARY:MIDC Compliance Plan Reporting and Grant Distribution Information (Mid-Michigan)
DESCRIPTION:Please join us for an informational session about MIDC compliance plan implementation and grant reporting requirements scheduled to begin in October 2018. This session will be moderated by Marla McCowan\, Director of Training\, Outreach & Support\, and the MIDC’s Grant Manager Rebecca Mack. Regional Manager Barbara Klimaszewski will be monitoring questions during this interactive presentation. \nRSVP here.
URL:https://michiganidc.gov/calendar/midc-compliance-plan-reporting-and-grant-distribution-information-mid-michigan/
LOCATION:Webinar
ORGANIZER;CN="MIDC":MAILTO:MitchellD20@michigan.gov
END:VEVENT
BEGIN:VEVENT
DTSTART;TZID=America/New_York:20180912T100000
DTEND;TZID=America/New_York:20180912T110000
DTSTAMP:20260425T112903
CREATED:20180824T225240Z
LAST-MODIFIED:20180824T225240Z
UID:5459-1536746400-1536750000@michiganidc.gov
SUMMARY:MIDC Compliance Plan Reporting and Grant Distribution Information (Wayne County)
DESCRIPTION:Please join us for an informational session about MIDC compliance plan implementation and grant reporting requirements scheduled to begin in October 2018. This session will be moderated by Marla McCowan\, Director of Training\, Outreach & Support\, and the MIDC’s Grant Manager Rebecca Mack. Regional Manager Kelly McDoniel will be monitoring questions during this interactive presentation. \nRSVP here.
URL:https://michiganidc.gov/calendar/midc-compliance-plan-reporting-and-grant-distribution-information-wayne-county/
LOCATION:Webinar
ORGANIZER;CN="MIDC":MAILTO:MitchellD20@michigan.gov
END:VEVENT
BEGIN:VEVENT
DTSTART;TZID=America/New_York:20180912T043000
DTEND;TZID=America/New_York:20180912T053000
DTSTAMP:20260425T112903
CREATED:20180824T225051Z
LAST-MODIFIED:20180824T225051Z
UID:5457-1536726600-1536730200@michiganidc.gov
SUMMARY:MIDC Compliance Plan Reporting and Grant Distribution Information (Western Michigan)
DESCRIPTION:Please join us for an informational session about MIDC compliance plan implementation and grant reporting requirements scheduled to begin in October 2018. This session will be moderated by Marla McCowan\, Director of Training\, Outreach & Support\, and the MIDC’s Grant Manager Rebecca Mack. Regional Manager Chris Dennie will be monitoring questions during this interactive presentation. \nRSVP here.
URL:https://michiganidc.gov/calendar/midc-compliance-plan-reporting-and-grant-distribution-information-western-michigan/
LOCATION:Webinar
ORGANIZER;CN="MIDC":MAILTO:MitchellD20@michigan.gov
END:VEVENT
BEGIN:VEVENT
DTSTART;TZID=America/New_York:20180911T110000
DTEND;TZID=America/New_York:20180911T120000
DTSTAMP:20260425T112903
CREATED:20180824T224343Z
LAST-MODIFIED:20180824T224343Z
UID:5454-1536663600-1536667200@michiganidc.gov
SUMMARY:MIDC Compliance Plan Reporting and Grant Distribution Information (Northern Michigan)
DESCRIPTION:Please join us for an informational session about MIDC compliance plan implementation and grant reporting requirements scheduled to begin in October 2018. This session will be moderated by Marla McCowan\, Director of Training\, Outreach & Support\, and the MIDC’s Grant Manager Rebecca Mack. Ms. McCowan and Ms. Mack will be monitoring questions during this interactive presentation. \nRSVP here.
URL:https://michiganidc.gov/calendar/midc-compliance-plan-reporting-and-grant-distribution-information-northern-michigan/
LOCATION:Webinar
ORGANIZER;CN="MIDC":MAILTO:MitchellD20@michigan.gov
END:VEVENT
BEGIN:VEVENT
DTSTART;TZID=America/New_York:20180911T073000
DTEND;TZID=America/New_York:20180911T083000
DTSTAMP:20260425T112903
CREATED:20180824T224129Z
LAST-MODIFIED:20180824T224129Z
UID:5452-1536651000-1536654600@michiganidc.gov
SUMMARY:MIDC Compliance Plan Reporting and Grant Distribution Information (Lapeer/Macomb/Oakland/St Clair)
DESCRIPTION:Please join us for an informational session about MIDC compliance plan implementation and grant reporting requirements scheduled to begin in October 2018. This session will be moderated by Marla McCowan\, Director of Training\, Outreach & Support\, and the MIDC’s Grant Manager Rebecca Mack. Regional Manager Tanya Grillo will be monitoring questions during this interactive presentation. \nRSVP here.
URL:https://michiganidc.gov/calendar/midc-compliance-plan-reporting-and-grant-distribution-information-lapeer-macomb-oakland-st-clair/
LOCATION:Webinar
ORGANIZER;CN="MIDC":MAILTO:MitchellD20@michigan.gov
END:VEVENT
BEGIN:VEVENT
DTSTART;TZID=America/New_York:20180821T080000
DTEND;TZID=America/New_York:20180821T120000
DTSTAMP:20260425T112903
CREATED:20180111T003928Z
LAST-MODIFIED:20180111T003928Z
UID:5265-1534838400-1534852800@michiganidc.gov
SUMMARY:Commission Meeting
DESCRIPTION:
URL:https://michiganidc.gov/calendar/commission-meeting-18/
LOCATION:MIDC Office\, 200 N Washington\, Lansing\, MI\, United States
ORGANIZER;CN="MIDC":MAILTO:MitchellD20@michigan.gov
END:VEVENT
BEGIN:VEVENT
DTSTART;TZID=America/New_York:20180612T050000
DTEND;TZID=America/New_York:20180612T120000
DTSTAMP:20260425T112903
CREATED:20180111T003653Z
LAST-MODIFIED:20180606T034116Z
UID:5263-1528779600-1528804800@michiganidc.gov
SUMMARY:Commission Meeting
DESCRIPTION:The general business meeting will begin at 10 a.m. and will include consideration of resubmitted compliance plans. \nBeginning at 1 p.m. the MIDC will hold a Public Hearing on Proposed Standards 5\, 6\, 7\, and 8 pursuant to MCL 780.985(4). \nBusiness Meeting Agenda \nPublic Hearing Agenda
URL:https://michiganidc.gov/calendar/commission-meeting-17/
LOCATION:MIDC Office\, 200 N Washington\, Lansing\, MI\, United States
ORGANIZER;CN="MIDC":MAILTO:MitchellD20@michigan.gov
END:VEVENT
BEGIN:VEVENT
DTSTART;TZID=America/New_York:20180605T110000
DTEND;TZID=America/New_York:20180605T123000
DTSTAMP:20260425T112903
CREATED:20180601T011132Z
LAST-MODIFIED:20180601T011132Z
UID:5378-1528196400-1528201800@michiganidc.gov
SUMMARY:WEBINAR: MIDC Update and Information on Proposed Standards (ADDED SESSION)
DESCRIPTION:Note: the webinar at 12:30 is at capacity.  \nThe MIDC staff is pleased to provide an informal update on the activity of the Commission\, and give an overview of the next standards for indigent defense delivery systems before the public hearing. \nRead the Spring 2018 update here. \nRegister for the 4:00 p.m. webinar here. \nFor questions or concerns\, or for assistance with registration\, please contact Marla McCowan at mmccowan@michiganidc.gov or 517-388-6702.
URL:https://michiganidc.gov/calendar/webinar-midc-update-and-information-on-proposed-standards-added-session/
LOCATION:Webinar
ORGANIZER;CN="MIDC":MAILTO:MitchellD20@michigan.gov
END:VEVENT
BEGIN:VEVENT
DTSTART;TZID=America/New_York:20180605T073000
DTEND;TZID=America/New_York:20180605T083000
DTSTAMP:20260425T112903
CREATED:20180521T192225Z
LAST-MODIFIED:20180601T012051Z
UID:5355-1528183800-1528187400@michiganidc.gov
SUMMARY:Webinar: MIDC Update and Information on Proposed Standards
DESCRIPTION:PLEASE NOTE: This event is at capacity\, but we’ve added a session for later the same day! If you want to register for the next event at 4:00 p.m.\, use this link: \nhttps://www.eventbrite.com/e/midc-update-and-information-on-proposed-next-standards-added-session-tickets-46628249349 \nThe MIDC staff is pleased to provide an informal update on the activity of the Commission\, and give an overview of the next standards for indigent defense delivery systems before the public hearing. \nRead the Spring 2018 update here. \nFor questions or concerns\, or for assistance with registration\, please contact Marla McCowan at mmccowan@michiganidc.gov or 517-388-6702. \n 
URL:https://michiganidc.gov/calendar/webinar-midc-update-and-information-on-proposed-standards/
LOCATION:Webinar
ORGANIZER;CN="MIDC":MAILTO:MitchellD20@michigan.gov
END:VEVENT
BEGIN:VEVENT
DTSTART;TZID=America/New_York:20180417T080000
DTEND;TZID=America/New_York:20180417T120000
DTSTAMP:20260425T112903
CREATED:20180111T003459Z
LAST-MODIFIED:20180111T003459Z
UID:5260-1523952000-1523966400@michiganidc.gov
SUMMARY:Commission Meeting
DESCRIPTION:
URL:https://michiganidc.gov/calendar/commission-meeting-16/
LOCATION:MIDC Office\, 200 N Washington\, Lansing\, MI\, United States
ORGANIZER;CN="MIDC":MAILTO:MitchellD20@michigan.gov
END:VEVENT
BEGIN:VEVENT
DTSTART;TZID=America/New_York:20180326T050000
DTEND;TZID=America/New_York:20180326T110000
DTSTAMP:20260425T112903
CREATED:20180306T005445Z
LAST-MODIFIED:20180306T005445Z
UID:5304-1522040400-1522062000@michiganidc.gov
SUMMARY:MIDC Special Meeting (compliance plan review)
DESCRIPTION:
URL:https://michiganidc.gov/calendar/midc-special-meeting-compliance-plan-review/
LOCATION:MIDC Office\, 200 N Washington\, Lansing\, MI\, United States
ORGANIZER;CN="MIDC":MAILTO:MitchellD20@michigan.gov
END:VEVENT
BEGIN:VEVENT
DTSTART;TZID=America/New_York:20180220T080000
DTEND;TZID=America/New_York:20180220T120000
DTSTAMP:20260425T112903
CREATED:20180111T002503Z
LAST-MODIFIED:20180111T003530Z
UID:5258-1519113600-1519128000@michiganidc.gov
SUMMARY:Commission Meeting
DESCRIPTION:
URL:https://michiganidc.gov/calendar/commission-meeting-15/
LOCATION:MIDC Office\, 200 N Washington\, Lansing\, MI\, United States
ORGANIZER;CN="MIDC":MAILTO:MitchellD20@michigan.gov
END:VEVENT
BEGIN:VEVENT
DTSTART;TZID=America/New_York:20180108T050000
DTEND;TZID=America/New_York:20180108T120000
DTSTAMP:20260425T112903
CREATED:20171024T064251Z
LAST-MODIFIED:20171209T230720Z
UID:5187-1515387600-1515412800@michiganidc.gov
SUMMARY:Commission Meeting
DESCRIPTION:A special meeting to review compliance plans submitted by Michigan indigent defense delivery systems pursuant to MCL 780.993.
URL:https://michiganidc.gov/calendar/commission-meeting-tentative-date-2/
LOCATION:MIDC Office\, 200 N Washington\, Lansing\, MI\, United States
ORGANIZER;CN="MIDC":MAILTO:MitchellD20@michigan.gov
END:VEVENT
BEGIN:VEVENT
DTSTART;TZID=America/New_York:20180105T050000
DTEND;TZID=America/New_York:20180105T120000
DTSTAMP:20260425T112903
CREATED:20171209T230837Z
LAST-MODIFIED:20171209T230837Z
UID:5227-1515128400-1515153600@michiganidc.gov
SUMMARY:Commission Meeting
DESCRIPTION:A special meeting to review compliance plans submitted by Michigan indigent defense delivery systems pursuant to MCL 780.993.
URL:https://michiganidc.gov/calendar/commission-meeting-14/
LOCATION:MIDC Office\, 200 N Washington\, Lansing\, MI\, United States
ORGANIZER;CN="MIDC":MAILTO:MitchellD20@michigan.gov
END:VEVENT
BEGIN:VEVENT
DTSTART;TZID=America/New_York:20171219T080000
DTEND;TZID=America/New_York:20171219T120000
DTSTAMP:20260425T112903
CREATED:20170106T005715Z
LAST-MODIFIED:20170106T005715Z
UID:4579-1513670400-1513684800@michiganidc.gov
SUMMARY:Commission Meeting
DESCRIPTION:
URL:https://michiganidc.gov/calendar/commission-meeting-12/
LOCATION:MIDC Office\, 200 N Washington\, Lansing\, MI\, United States
ORGANIZER;CN="MIDC":MAILTO:MitchellD20@michigan.gov
END:VEVENT
END:VCALENDAR