BEGIN:VCALENDAR
VERSION:2.0
PRODID:-//Michigan Indigent Defense Commission - ECPv6.15.20//NONSGML v1.0//EN
CALSCALE:GREGORIAN
METHOD:PUBLISH
X-WR-CALNAME:Michigan Indigent Defense Commission
X-ORIGINAL-URL:https://michiganidc.gov
X-WR-CALDESC:Events for Michigan Indigent Defense Commission
REFRESH-INTERVAL;VALUE=DURATION:PT1H
X-Robots-Tag:noindex
X-PUBLISHED-TTL:PT1H
BEGIN:VTIMEZONE
TZID:America/New_York
BEGIN:DAYLIGHT
TZOFFSETFROM:-0500
TZOFFSETTO:-0400
TZNAME:EDT
DTSTART:20230312T070000
END:DAYLIGHT
BEGIN:STANDARD
TZOFFSETFROM:-0400
TZOFFSETTO:-0500
TZNAME:EST
DTSTART:20231105T060000
END:STANDARD
BEGIN:DAYLIGHT
TZOFFSETFROM:-0500
TZOFFSETTO:-0400
TZNAME:EDT
DTSTART:20240310T070000
END:DAYLIGHT
BEGIN:STANDARD
TZOFFSETFROM:-0400
TZOFFSETTO:-0500
TZNAME:EST
DTSTART:20241103T060000
END:STANDARD
BEGIN:DAYLIGHT
TZOFFSETFROM:-0500
TZOFFSETTO:-0400
TZNAME:EDT
DTSTART:20250309T070000
END:DAYLIGHT
BEGIN:STANDARD
TZOFFSETFROM:-0400
TZOFFSETTO:-0500
TZNAME:EST
DTSTART:20251102T060000
END:STANDARD
BEGIN:DAYLIGHT
TZOFFSETFROM:-0500
TZOFFSETTO:-0400
TZNAME:EDT
DTSTART:20260308T070000
END:DAYLIGHT
BEGIN:STANDARD
TZOFFSETFROM:-0400
TZOFFSETTO:-0500
TZNAME:EST
DTSTART:20261101T060000
END:STANDARD
BEGIN:DAYLIGHT
TZOFFSETFROM:-0500
TZOFFSETTO:-0400
TZNAME:EDT
DTSTART:20270314T070000
END:DAYLIGHT
BEGIN:STANDARD
TZOFFSETFROM:-0400
TZOFFSETTO:-0500
TZNAME:EST
DTSTART:20271107T060000
END:STANDARD
END:VTIMEZONE
BEGIN:VEVENT
DTSTART;TZID=America/New_York:20240430T093000
DTEND;TZID=America/New_York:20240430T170000
DTSTAMP:20260425T065231
CREATED:20240105T125328Z
LAST-MODIFIED:20240424T192133Z
UID:8453-1714469400-1714496400@michiganidc.gov
SUMMARY:MIDC Meeting
DESCRIPTION:The Michigan Indigent Defense Commission will meet on Tuesday April 30\, 2024 beginning at 9:30 a.m.\n\n\nAgenda and Materials April 2024 \nLocation:\nMichigan Bankers Association Building\n507 S Grand Ave\, Lansing\, MI 48933 \nOnline Access: For members of the public who wish to join the meeting online\, please request a Zoom link by contacting Marcela Westrate at WestrateM1@michigan.gov or text or call (517) 648-3143 and leave a message with your email address. The link will be provided in the morning before the meeting begins. \nFree parking is available in the lot at the southeast corner of Grand and Lenawee. Free\, handicap-accessible parking and an accessible entrance to the building is available in the same lot but enter at the southwest corner of Cherry at Lenawee. \nFor any questions or concerns or to contact the Commission\, please email Marcela Westrate at WestrateM1@michigan.gov or call (517) 648-3143.
URL:https://michiganidc.gov/calendar/midc-meeting-28/
LOCATION:Michigan Bankers Association\, 507 S Grand Avenue\, Lansing\, MI\, 48933\, United States
CATEGORIES:Commission Meetings
ORGANIZER;CN="MIDC":MAILTO:DownerJ1@michigan.gov
END:VEVENT
BEGIN:VEVENT
DTSTART;TZID=America/New_York:20240625T093000
DTEND;TZID=America/New_York:20240625T170000
DTSTAMP:20260425T065231
CREATED:20240105T125412Z
LAST-MODIFIED:20240617T140612Z
UID:8456-1719307800-1719334800@michiganidc.gov
SUMMARY:MIDC Meeting
DESCRIPTION:The Michigan Indigent Defense Commission will meet on Tuesday June 25\, 2024 beginning at 9:30 a.m. \n\n\nAgenda and Materials June 2024 \nLocation:\nMichigan Bankers Association Building\n507 S Grand Ave\, Lansing\, MI 48933 \nOnline Access: For members of the public who wish to join the meeting online\, please request a Zoom link by contacting Jacklyn Downer at DownerJ1@michigan.gov or text or call (517) 582-1741 and leave a message with your email address. The link will be provided in the morning before the meeting begins. \nFree parking is available in the lot at the southeast corner of Grand and Lenawee. Free\, handicap-accessible parking and an accessible entrance to the building is available in the same lot but enter at the southwest corner of Cherry at Lenawee. \nFor any questions or concerns or to contact the Commission\, please email Jacklyn Downer at DownerJ1@michigan.gov or call (517) 582-1741.
URL:https://michiganidc.gov/calendar/midc-meeting-29/
LOCATION:Michigan Bankers Association\, 507 S Grand Avenue\, Lansing\, MI\, 48933\, United States
CATEGORIES:Commission Meetings
ORGANIZER;CN="MIDC":MAILTO:DownerJ1@michigan.gov
END:VEVENT
BEGIN:VEVENT
DTSTART;TZID=America/New_York:20240820T093000
DTEND;TZID=America/New_York:20240820T170000
DTSTAMP:20260425T065231
CREATED:20240105T125507Z
LAST-MODIFIED:20240815T014634Z
UID:8460-1724146200-1724173200@michiganidc.gov
SUMMARY:MIDC Meeting
DESCRIPTION:The Michigan Indigent Defense Commission will meet on Tuesday August 20\, 2024 beginning at 9:30 a.m. \nAgenda and Materials August 2024 \nLocation:\nMichigan Bankers Association Building\n507 S Grand Ave\, Lansing\, MI 48933 \nOnline Access: For members of the public who wish to join the meeting online\, please request a Zoom link by contacting Marcela Westrate at WestrateM1@michigan.gov or text or call (517) 648-3143 and leave a message with your email address. The link will be provided in the morning before the meeting begins. \nFree parking is available in the lot at the southeast corner of Grand and Lenawee. Free\, handicap-accessible parking and an accessible entrance to the building is available in the same lot but enter at the southwest corner of Cherry at Lenawee. \nFor any questions or concerns or to contact the Commission\, please email Marcela Westrate at WestrateM1@michigan.gov or call (517) 648-3143.
URL:https://michiganidc.gov/calendar/midc-meeting-30/
LOCATION:Michigan Bankers Association\, 507 S Grand Avenue\, Lansing\, MI\, 48933\, United States
CATEGORIES:Commission Meetings
ORGANIZER;CN="MIDC":MAILTO:DownerJ1@michigan.gov
END:VEVENT
BEGIN:VEVENT
DTSTART;TZID=America/New_York:20241015T093000
DTEND;TZID=America/New_York:20241015T170000
DTSTAMP:20260425T065231
CREATED:20240105T125550Z
LAST-MODIFIED:20241009T183042Z
UID:8463-1728984600-1729011600@michiganidc.gov
SUMMARY:MIDC Meeting
DESCRIPTION:The Michigan Indigent Defense Commission will meet on Tuesday October 15\, 2024 beginning at 9:30 a.m.\n\n\nAgenda and Materials October 2024 \nLocation:\nMichigan Bankers Association Building\n507 S Grand Ave\, Lansing\, MI 48933 \nOnline Access: For members of the public who wish to join the meeting online\, please request a Zoom link by contacting Jacklyn Downer at DownerJ1@michigan.gov or text or call (517) 582-1741 and leave a message with your email address. The link will be provided in the morning before the meeting begins. \nFree parking is available in the lot at the southeast corner of Grand and Lenawee. Free\, handicap-accessible parking and an accessible entrance to the building is available in the same lot but enter at the southwest corner of Cherry at Lenawee. \nFor any questions or concerns or to contact the Commission\, please email Jacklyn Downer at DownerJ1@michigan.gov or call (517) 582-1741.
URL:https://michiganidc.gov/calendar/midc-meeting-31/
LOCATION:Michigan Bankers Association\, 507 S Grand Avenue\, Lansing\, MI\, 48933\, United States
CATEGORIES:Commission Meetings
ORGANIZER;CN="MIDC":MAILTO:DownerJ1@michigan.gov
END:VEVENT
BEGIN:VEVENT
DTSTART;TZID=America/New_York:20241217T080000
DTEND;TZID=America/New_York:20241217T170000
DTSTAMP:20260425T065231
CREATED:20240105T125709Z
LAST-MODIFIED:20241216T170618Z
UID:8466-1734422400-1734454800@michiganidc.gov
SUMMARY:MIDC Meeting
DESCRIPTION:The Michigan Indigent Defense Commission will meet on Tuesday December 17\, 2024 beginning at 9:30 a.m.\nAgenda and Materials \n\n\nLocation:\nMichigan Bankers Association Building\n507 S Grand Ave\, Lansing\, MI 48933 \nOnline Access: For members of the public who wish to join the meeting online\, please request a Zoom link by contacting Jacklyn Downer at DownerJ1@michigan.gov or text or call (517) 582-1741 and leave a message with your email address. The link will be provided in the morning before the meeting begins. \nFree parking is available in the lot at the southeast corner of Grand and Lenawee. Free\, handicap-accessible parking and an accessible entrance to the building is available in the same lot but enter at the southwest corner of Cherry at Lenawee. \nFor any questions or concerns or to contact the Commission\, please email Jacklyn Downer at DownerJ1@michigan.gov or call (517) 582-1741.
URL:https://michiganidc.gov/calendar/midc-meeting-32/
LOCATION:Michigan Bankers Association\, 507 S Grand Avenue\, Lansing\, MI\, 48933\, United States
CATEGORIES:Commission Meetings
ORGANIZER;CN="MIDC":MAILTO:DownerJ1@michigan.gov
END:VEVENT
BEGIN:VEVENT
DTSTART;TZID=America/New_York:20250218T113000
DTEND;TZID=America/New_York:20250218T170000
DTSTAMP:20260425T065231
CREATED:20241219T160446Z
LAST-MODIFIED:20250213T190316Z
UID:8952-1739878200-1739898000@michiganidc.gov
SUMMARY:MIDC Meeting
DESCRIPTION:The Michigan Indigent Defense Commission will meet in Lansing on Tuesday February 18\, 2025 beginning at 11:30 a.m. \nFebruary 2025 MIDC Materials \nLocation:\nMichigan Bankers Association Building\n507 S Grand Ave\, Lansing\, MI 48933 \nOnline Access: For members of the public who wish to join the meeting online\, please request a Zoom link by contacting Jacklyn Downer at DownerJ1@michigan.gov or text or call (517) 582-1741 and leave a message with your email address. The link will be provided in the morning before the meeting begins. \nFree parking is available in the lot at the southeast corner of Grand and Lenawee. Free\, handicap-accessible parking and an accessible entrance to the building is available in the same lot but enter at the southwest corner of Cherry at Lenawee. \nFor any questions or concerns or to contact the Commission\, please email Jacklyn Downer at DownerJ1@michigan.gov or call (517) 582-1741.
URL:https://michiganidc.gov/calendar/midc-meeting-33/
LOCATION:Michigan Bankers Association\, 507 S Grand Avenue\, Lansing\, MI\, 48933\, United States
ORGANIZER;CN="MIDC":MAILTO:DownerJ1@michigan.gov
END:VEVENT
BEGIN:VEVENT
DTSTART;TZID=America/New_York:20250422T093000
DTEND;TZID=America/New_York:20250422T170000
DTSTAMP:20260425T065231
CREATED:20241219T160522Z
LAST-MODIFIED:20250417T202720Z
UID:8955-1745314200-1745341200@michiganidc.gov
SUMMARY:MIDC Meeting
DESCRIPTION:The Michigan Indigent Defense Commission will meet in Lansing on Tuesday April 22\, 2025 beginning at 9:30 a.m. \nMIDC Agenda and Materials April 2025 \nLocation:\nMichigan Bankers Association Building\n507 S Grand Ave\, Lansing\, MI 48933 \nOnline Access: For members of the public who wish to join the meeting online\, please request a Zoom link by contacting Jacklyn Downer at DownerJ1@michigan.gov or text or call (517) 582-1741 and leave a message with your email address. The link will be provided in the morning before the meeting begins. \nFree parking is available in the lot at the southeast corner of Grand and Lenawee. Free\, handicap-accessible parking and an accessible entrance to the building is available in the same lot but enter at the southwest corner of Cherry at Lenawee. \nFor any questions or concerns or to contact the Commission\, please email Jacklyn Downer at DownerJ1@michigan.gov or call (517) 582-1741.
URL:https://michiganidc.gov/calendar/midc-meeting-34/
LOCATION:Michigan Bankers Association\, 507 S Grand Avenue\, Lansing\, MI\, 48933\, United States
ORGANIZER;CN="MIDC":MAILTO:DownerJ1@michigan.gov
END:VEVENT
BEGIN:VEVENT
DTSTART;TZID=America/New_York:20250624T093000
DTEND;TZID=America/New_York:20250624T170000
DTSTAMP:20260425T065231
CREATED:20241219T160604Z
LAST-MODIFIED:20250617T211552Z
UID:8958-1750757400-1750784400@michiganidc.gov
SUMMARY:MIDC Meeting
DESCRIPTION:The Michigan Indigent Defense Commission will meet in Lansing on Tuesday June 24\, 2025 beginning at 9:30 a.m. \nMIDC Agenda and Materials June 24\, 2025 \nLocation:\nMichigan Bankers Association Building\n507 S Grand Ave\, Lansing\, MI 48933 \nOnline Access: For members of the public who wish to join the meeting online\, please request a Zoom link by contacting Jacklyn Downer at DownerJ1@michigan.gov or text or call (517) 582-1741 and leave a message with your email address. The link will be provided in the morning before the meeting begins. \nFree parking is available in the lot at the southeast corner of Grand and Lenawee. Free\, handicap-accessible parking and an accessible entrance to the building is available in the same lot but enter at the southwest corner of Cherry at Lenawee. \nFor any questions or concerns or to contact the Commission\, please email Jacklyn Downer at DownerJ1@michigan.gov or call (517) 582-1741.
URL:https://michiganidc.gov/calendar/midc-meeting-35/
LOCATION:Michigan Bankers Association\, 507 S Grand Avenue\, Lansing\, MI\, 48933\, United States
ORGANIZER;CN="MIDC":MAILTO:DownerJ1@michigan.gov
END:VEVENT
BEGIN:VEVENT
DTSTART;TZID=America/New_York:20250912T133000
DTEND;TZID=America/New_York:20250912T170000
DTSTAMP:20260425T065231
CREATED:20250703T115215Z
LAST-MODIFIED:20250904T205500Z
UID:9168-1757683800-1757696400@michiganidc.gov
SUMMARY:MIDC Meeting
DESCRIPTION:The Michigan Indigent Defense Commission will meet in Lansing on Friday September 12\, 2025 beginning at 1:30 p.m.\n\nSeptember Agenda and Meeting Materials\n\n\nLocation:\nMichigan Bankers Association Building\n507 S Grand Ave\, Lansing\, MI 48933 \nOnline Access: For members of the public who wish to join the meeting online\, please request a Zoom link by contacting Jacklyn Downer at DownerJ1@michigan.gov or text or call (517) 582-1741 and leave a message with your email address. The link will be provided in the morning before the meeting begins. \nFree parking is available in the lot at the southeast corner of Grand and Lenawee. Free\, handicap-accessible parking and an accessible entrance to the building is available in the same lot but enter at the southwest corner of Cherry at Lenawee. \nFor any questions or concerns or to contact the Commission\, please email Jacklyn Downer at DownerJ1@michigan.gov or call (517) 582-1741.
URL:https://michiganidc.gov/calendar/midc-meeting-36/
LOCATION:Michigan Bankers Association\, 507 S Grand Avenue\, Lansing\, MI\, 48933\, United States
ORGANIZER;CN="MIDC":MAILTO:DownerJ1@michigan.gov
END:VEVENT
BEGIN:VEVENT
DTSTART;TZID=America/New_York:20251021T093000
DTEND;TZID=America/New_York:20251021T170000
DTSTAMP:20260425T065231
CREATED:20241219T160714Z
LAST-MODIFIED:20251016T122428Z
UID:8964-1761039000-1761066000@michiganidc.gov
SUMMARY:MIDC Meeting
DESCRIPTION:The Michigan Indigent Defense Commission will meet in Lansing on Tuesday October 21\, 2025 beginning at 9:30 a.m.\n\nMIDC October 2025 Meeting Materials \nNOTE NEW LOCATION:\nMichigan Public Services Building. 7109 W. Saginaw Highway\, Lansing\, MI 48917 \nOnline Access: For members of the public who wish to join the meeting online\, please request a Zoom link by contacting Jacklyn Downer at DownerJ1@michigan.gov or text or call (517) 582-1741 and leave a message with your email address. The link will be provided in the morning before the meeting begins. \nFree parking is available onsite. \nFor any questions or concerns or to contact the Commission\, please email Jacklyn Downer at DownerJ1@michigan.gov or call (517) 582-1741.
URL:https://michiganidc.gov/calendar/midc-meeting-37/
LOCATION:Michigan Public Services Building\, 7109 W. Saginaw Highway\, Lansing\, 48917\, United States
ORGANIZER;CN="MIDC":MAILTO:DownerJ1@michigan.gov
END:VEVENT
BEGIN:VEVENT
DTSTART;TZID=America/New_York:20251216T093000
DTEND;TZID=America/New_York:20251216T170000
DTSTAMP:20260425T065231
CREATED:20241219T160750Z
LAST-MODIFIED:20251212T145747Z
UID:8967-1765877400-1765904400@michiganidc.gov
SUMMARY:MIDC Meeting
DESCRIPTION:The Michigan Indigent Defense Commission will meet in Lansing on Tuesday December 16\, 2025 beginning at 9:30 a.m. \nMIDC Agenda and Materials December 16\, 2025 \nLocation:\nMichigan Bankers Association Building\n507 S Grand Ave\, Lansing\, MI 48933 \nOnline Access: For members of the public who wish to join the meeting online\, please request a Zoom link by contacting Jacklyn Downer at DownerJ1@michigan.gov or text or call (517) 582-1741 and leave a message with your email address. The link will be provided in the morning before the meeting begins. \nFree parking is available in the lot at the southeast corner of Grand and Lenawee. Free\, handicap-accessible parking and an accessible entrance to the building is available in the same lot but enter at the southwest corner of Cherry at Lenawee. \nFor any questions or concerns or to contact the Commission\, please email Jacklyn Downer at DownerJ1@michigan.gov or call (517) 582-1741.
URL:https://michiganidc.gov/calendar/midc-meeting-38/
LOCATION:Michigan Bankers Association\, 507 S Grand Avenue\, Lansing\, MI\, 48933\, United States
ORGANIZER;CN="MIDC":MAILTO:DownerJ1@michigan.gov
END:VEVENT
BEGIN:VEVENT
DTSTART;TZID=America/New_York:20260212T130000
DTEND;TZID=America/New_York:20260212T170000
DTSTAMP:20260425T065231
CREATED:20251218T172250Z
LAST-MODIFIED:20260211T100902Z
UID:9342-1770901200-1770915600@michiganidc.gov
SUMMARY:MIDC Meeting
DESCRIPTION:The Michigan Indigent Defense Commission will meet in Lansing on Thursday February 12\, 2026 beginning at 1 p.m. \nMIDC Agenda and Meeting Materials February 2026 \nLocation:\nMichigan Bankers Association Building\n507 S Grand Ave\, Lansing\, MI 48933 \nOnline Access: https://us06web.zoom.us/j/83620115210?pwd=JnsbG2SfLTMdm1fxZ4rMtfgD5DYkDQ.1 \nMeeting ID: 836 2011 5210 \nPasscode: 098730 \nFree parking is available in the lot at the southeast corner of Grand and Lenawee. Free\, handicap-accessible parking and an accessible entrance to the building is available in the same lot but enter at the southwest corner of Cherry at Lenawee. \nFor any questions or concerns or to contact the Commission\, please email Jacklyn Downer at DownerJ1@michigan.gov or call (517) 582-1741.
URL:https://michiganidc.gov/calendar/midc-meeting-39/
LOCATION:Michigan Bankers Association\, 507 S Grand Avenue\, Lansing\, MI\, 48933\, United States
ORGANIZER;CN="MIDC":MAILTO:DownerJ1@michigan.gov
END:VEVENT
BEGIN:VEVENT
DTSTART;TZID=America/New_York:20260610T093000
DTEND;TZID=America/New_York:20260610T170000
DTSTAMP:20260425T065231
CREATED:20251218T172329Z
LAST-MODIFIED:20251218T172329Z
UID:9345-1781083800-1781110800@michiganidc.gov
SUMMARY:MIDC Meeting
DESCRIPTION:
URL:https://michiganidc.gov/calendar/midc-meeting-40/
LOCATION:Michigan Bankers Association\, 507 S Grand Avenue\, Lansing\, MI\, 48933\, United States
ORGANIZER;CN="MIDC":MAILTO:DownerJ1@michigan.gov
END:VEVENT
BEGIN:VEVENT
DTSTART;TZID=America/New_York:20260909T093000
DTEND;TZID=America/New_York:20260909T170000
DTSTAMP:20260425T065231
CREATED:20251218T172410Z
LAST-MODIFIED:20251218T172410Z
UID:9348-1788946200-1788973200@michiganidc.gov
SUMMARY:MIDC Meeting
DESCRIPTION:
URL:https://michiganidc.gov/calendar/midc-meeting-41/
LOCATION:Michigan Bankers Association\, 507 S Grand Avenue\, Lansing\, MI\, 48933\, United States
ORGANIZER;CN="MIDC":MAILTO:DownerJ1@michigan.gov
END:VEVENT
BEGIN:VEVENT
DTSTART;TZID=America/New_York:20261202T093000
DTEND;TZID=America/New_York:20261202T170000
DTSTAMP:20260425T065231
CREATED:20251218T172443Z
LAST-MODIFIED:20251218T172443Z
UID:9351-1796203800-1796230800@michiganidc.gov
SUMMARY:MIDC Meeting
DESCRIPTION:
URL:https://michiganidc.gov/calendar/midc-meeting-42/
LOCATION:Michigan Bankers Association\, 507 S Grand Avenue\, Lansing\, MI\, 48933\, United States
ORGANIZER;CN="MIDC":MAILTO:DownerJ1@michigan.gov
END:VEVENT
END:VCALENDAR