BEGIN:VCALENDAR
VERSION:2.0
PRODID:-//Michigan Indigent Defense Commission - ECPv6.15.20//NONSGML v1.0//EN
CALSCALE:GREGORIAN
METHOD:PUBLISH
X-WR-CALNAME:Michigan Indigent Defense Commission
X-ORIGINAL-URL:https://michiganidc.gov
X-WR-CALDESC:Events for Michigan Indigent Defense Commission
REFRESH-INTERVAL;VALUE=DURATION:PT1H
X-Robots-Tag:noindex
X-PUBLISHED-TTL:PT1H
BEGIN:VTIMEZONE
TZID:America/New_York
BEGIN:DAYLIGHT
TZOFFSETFROM:-0500
TZOFFSETTO:-0400
TZNAME:EDT
DTSTART:20150308T070000
END:DAYLIGHT
BEGIN:STANDARD
TZOFFSETFROM:-0400
TZOFFSETTO:-0500
TZNAME:EST
DTSTART:20151101T060000
END:STANDARD
BEGIN:DAYLIGHT
TZOFFSETFROM:-0500
TZOFFSETTO:-0400
TZNAME:EDT
DTSTART:20160313T070000
END:DAYLIGHT
BEGIN:STANDARD
TZOFFSETFROM:-0400
TZOFFSETTO:-0500
TZNAME:EST
DTSTART:20161106T060000
END:STANDARD
BEGIN:DAYLIGHT
TZOFFSETFROM:-0500
TZOFFSETTO:-0400
TZNAME:EDT
DTSTART:20170312T070000
END:DAYLIGHT
BEGIN:STANDARD
TZOFFSETFROM:-0400
TZOFFSETTO:-0500
TZNAME:EST
DTSTART:20171105T060000
END:STANDARD
BEGIN:DAYLIGHT
TZOFFSETFROM:-0500
TZOFFSETTO:-0400
TZNAME:EDT
DTSTART:20180311T070000
END:DAYLIGHT
BEGIN:STANDARD
TZOFFSETFROM:-0400
TZOFFSETTO:-0500
TZNAME:EST
DTSTART:20181104T060000
END:STANDARD
END:VTIMEZONE
BEGIN:VEVENT
DTSTART;TZID=America/New_York:20171219T080000
DTEND;TZID=America/New_York:20171219T120000
DTSTAMP:20260425T114259
CREATED:20170106T005715Z
LAST-MODIFIED:20170106T005715Z
UID:4579-1513670400-1513684800@michiganidc.gov
SUMMARY:Commission Meeting
DESCRIPTION:
URL:https://michiganidc.gov/calendar/commission-meeting-12/
LOCATION:MIDC Office\, 200 N Washington\, Lansing\, MI\, United States
ORGANIZER;CN="MIDC":MAILTO:MitchellD20@michigan.gov
END:VEVENT
BEGIN:VEVENT
DTSTART;TZID=America/New_York:20171017T080000
DTEND;TZID=America/New_York:20171017T120000
DTSTAMP:20260425T114259
CREATED:20170106T005623Z
LAST-MODIFIED:20170106T005623Z
UID:4577-1508227200-1508241600@michiganidc.gov
SUMMARY:Commission Meeting
DESCRIPTION:
URL:https://michiganidc.gov/calendar/commission-meeting-11/
LOCATION:MIDC Office\, 200 N Washington\, Lansing\, MI\, United States
ORGANIZER;CN="MIDC":MAILTO:MitchellD20@michigan.gov
END:VEVENT
BEGIN:VEVENT
DTSTART;TZID=America/New_York:20170926T070000
DTEND;TZID=America/New_York:20170926T080000
DTSTAMP:20260425T114259
CREATED:20170816T224437Z
LAST-MODIFIED:20170928T230509Z
UID:5088-1506409200-1506412800@michiganidc.gov
SUMMARY:Webinar: Compliance Plan Application Workshop (Wayne County Region)
DESCRIPTION:The Michigan Indigent Defense Commission is pleased to host a one-hour webinar for funding units and compliance planning work group members for all trial court systems in Wayne County.  MIDC Grant Manager Rebecca Mack and Regional Manager Kelly McDoniel will provide an overview of the compliance plan materials and will walk participants through the application itself.  An interactive question and answer session will be facilitated by Marla McCowan\, the MIDC’s Director of Training\, Outreach & Support. \nWatch the webinar here.
URL:https://michiganidc.gov/calendar/webinar-compliance-plan-application-workshop-wayne-county-region/
LOCATION:Webinar
ORGANIZER;CN="MIDC":MAILTO:MitchellD20@michigan.gov
END:VEVENT
BEGIN:VEVENT
DTSTART;TZID=America/New_York:20170925T070000
DTEND;TZID=America/New_York:20170925T080000
DTSTAMP:20260425T114259
CREATED:20170816T224239Z
LAST-MODIFIED:20170928T230358Z
UID:5086-1506322800-1506326400@michiganidc.gov
SUMMARY:Webinar: Compliance Plan Application Workshop (Lapeer\, Macomb\, Oakland\, St. Clair Region)
DESCRIPTION:The Michigan Indigent Defense Commission is pleased to host a one-hour webinar for funding units and compliance planning work group members in Lapeer\, Oakland\, Macomb and St. Clair Counties.  MIDC Grant Manager Rebecca Mack and Regional Manager Tanya Grillo will provide an overview of the compliance plan materials and will walk participants through the application itself.  An interactive question and answer session will be facilitated by Marla McCowan\, the MIDC’s Director of Training\, Outreach & Support. \nWatch the webinar here.
URL:https://michiganidc.gov/calendar/webinar-compliance-plan-application-workshop-lapeer-macomb-oakland-st-clair-region/
LOCATION:Webinar
ORGANIZER;CN="MIDC":MAILTO:MitchellD20@michigan.gov
END:VEVENT
BEGIN:VEVENT
DTSTART;TZID=America/New_York:20170920T070000
DTEND;TZID=America/New_York:20170920T080000
DTSTAMP:20260425T114259
CREATED:20170816T223833Z
LAST-MODIFIED:20170922T211421Z
UID:5081-1505890800-1505894400@michiganidc.gov
SUMMARY:Webinar: Compliance Plan Application Workshop (Northern Michigan Region)
DESCRIPTION:The Michigan Indigent Defense Commission is pleased to host a one-hour webinar for funding units and compliance planning work group members in Western Michigan.  MIDC Grant Manager Rebecca Mack and Regional Manager Jana Mathieu will provide an overview of the compliance plan materials and will walk participants through the application itself.  An interactive question and answer session will be facilitated by Marla McCowan\, the MIDC’s Director of Training\, Outreach & Support. \nWatch the webinar here.
URL:https://michiganidc.gov/calendar/webinar-compliance-plan-application-workshop-northern-michigan-region/
LOCATION:Webinar
ORGANIZER;CN="MIDC":MAILTO:MitchellD20@michigan.gov
END:VEVENT
BEGIN:VEVENT
DTSTART;TZID=America/New_York:20170919T070000
DTEND;TZID=America/New_York:20170919T080000
DTSTAMP:20260425T114259
CREATED:20170816T223114Z
LAST-MODIFIED:20170922T211311Z
UID:5076-1505804400-1505808000@michiganidc.gov
SUMMARY:Webinar: Compliance Plan Application Workshop (South Central Michigan Region)
DESCRIPTION:The Michigan Indigent Defense Commission is pleased to host a one-hour webinar for funding units and compliance planning work group members in South Central Michigan.  MIDC Grant Manager Rebecca Mack and Regional Manager Ashley Carter will provide an overview of the compliance plan materials and will walk participants through the application itself.  An interactive question and answer session will be facilitated by Marla McCowan\, the MIDC’s Director of Training\, Outreach & Support. \nView the webinar here. \n 
URL:https://michiganidc.gov/calendar/webinar-grant-application-workshop-south-central-michigan-region/
LOCATION:Webinar
ORGANIZER;CN="MIDC":MAILTO:MitchellD20@michigan.gov
END:VEVENT
BEGIN:VEVENT
DTSTART;TZID=America/New_York:20170914T070000
DTEND;TZID=America/New_York:20170914T080000
DTSTAMP:20260425T114259
CREATED:20170816T222632Z
LAST-MODIFIED:20170915T042136Z
UID:5073-1505372400-1505376000@michiganidc.gov
SUMMARY:Webinar: Compliance Plan Application Workshop (Mid Michigan Region)
DESCRIPTION:The Michigan Indigent Defense Commission is pleased to host a one-hour webinar for funding units and compliance planning work group members in Mid-Michigan.  MIDC Grant Manager Rebecca Mack and Regional Manager Barbara Klimaszewski will provide an overview of the compliance plan materials and will walk participants through the application itself.  An interactive question and answer session will be facilitated by Marla McCowan\, the MIDC’s Director of Training\, Outreach & Support. \nView the webinar here.
URL:https://michiganidc.gov/calendar/webinar-grant-application-workshop-mid-michigan-region/
LOCATION:Webinar
ORGANIZER;CN="MIDC":MAILTO:MitchellD20@michigan.gov
END:VEVENT
BEGIN:VEVENT
DTSTART;TZID=America/New_York:20170913T070000
DTEND;TZID=America/New_York:20170913T080000
DTSTAMP:20260425T114259
CREATED:20170816T222126Z
LAST-MODIFIED:20170914T020342Z
UID:5064-1505286000-1505289600@michiganidc.gov
SUMMARY:Webinar: Compliance Plan Application Workshop (Western Michigan Region)
DESCRIPTION:The Michigan Indigent Defense Commission is pleased to host a one-hour webinar for funding units and compliance planning work group members in Western Michigan.  MIDC Grant Manager Rebecca Mack and Regional Manager Chris Dennie will provide an overview of the compliance plan materials and will walk participants through the application itself. An interactive question and answer session will be facilitated by Marla McCowan\, the MIDC’s Director of Training\, Outreach & Support. \nView the webinar here. \n 
URL:https://michiganidc.gov/calendar/webinar-application-workshop-western-michigan-region/
LOCATION:Webinar
ORGANIZER;CN="MIDC":MAILTO:MitchellD20@michigan.gov
END:VEVENT
BEGIN:VEVENT
DTSTART;TZID=America/New_York:20170815T080000
DTEND;TZID=America/New_York:20170815T120000
DTSTAMP:20260425T114259
CREATED:20170106T005537Z
LAST-MODIFIED:20170106T005537Z
UID:4575-1502784000-1502798400@michiganidc.gov
SUMMARY:Commission Meeting
DESCRIPTION:
URL:https://michiganidc.gov/calendar/commission-meeting-10/
LOCATION:MIDC Office\, 200 N Washington\, Lansing\, MI\, United States
ORGANIZER;CN="MIDC":MAILTO:MitchellD20@michigan.gov
END:VEVENT
BEGIN:VEVENT
DTSTART;TZID=America/New_York:20170731T080000
DTEND;TZID=America/New_York:20170731T120000
DTSTAMP:20260425T114259
CREATED:20170626T041054Z
LAST-MODIFIED:20170710T185842Z
UID:5007-1501488000-1501502400@michiganidc.gov
SUMMARY:Commission Meeting
DESCRIPTION:Special meeting\, scheduled by the Commission at the June 20th MIDC meeting.
URL:https://michiganidc.gov/calendar/commission-meeting-13/
LOCATION:MIDC Office\, 200 N Washington\, Lansing\, MI\, United States
ORGANIZER;CN="MIDC":MAILTO:MitchellD20@michigan.gov
END:VEVENT
BEGIN:VEVENT
DTSTART;TZID=America/New_York:20170620T080000
DTEND;TZID=America/New_York:20170620T120000
DTSTAMP:20260425T114259
CREATED:20170106T005436Z
LAST-MODIFIED:20170616T213751Z
UID:4573-1497945600-1497960000@michiganidc.gov
SUMMARY:Commission Meeting
DESCRIPTION:NOTE: this meeting will be held in the basement of the Capitol National Bank Building\, 200 N. Washington Square\, Lansing.
URL:https://michiganidc.gov/calendar/commission-meeting-9/
LOCATION:MIDC Office\, 200 N Washington\, Lansing\, MI\, United States
ORGANIZER;CN="MIDC":MAILTO:MitchellD20@michigan.gov
END:VEVENT
BEGIN:VEVENT
DTSTART;TZID=America/New_York:20170418T080000
DTEND;TZID=America/New_York:20170418T120000
DTSTAMP:20260425T114259
CREATED:20170106T005315Z
LAST-MODIFIED:20170106T005315Z
UID:4571-1492502400-1492516800@michiganidc.gov
SUMMARY:Commission Meeting
DESCRIPTION:
URL:https://michiganidc.gov/calendar/commission-meeting-8/
LOCATION:MIDC Office\, 200 N Washington\, Lansing\, MI\, United States
ORGANIZER;CN="MIDC":MAILTO:MitchellD20@michigan.gov
END:VEVENT
BEGIN:VEVENT
DTSTART;TZID=America/New_York:20170221T080000
DTEND;TZID=America/New_York:20170221T120000
DTSTAMP:20260425T114259
CREATED:20170106T005153Z
LAST-MODIFIED:20170106T010002Z
UID:4569-1487664000-1487678400@michiganidc.gov
SUMMARY:Commission Meeting
DESCRIPTION:
URL:https://michiganidc.gov/calendar/commission-meeting-7/
LOCATION:MIDC Office\, 200 N Washington\, Lansing\, MI\, United States
ORGANIZER;CN="MIDC":MAILTO:MitchellD20@michigan.gov
END:VEVENT
BEGIN:VEVENT
DTSTART;TZID=America/New_York:20161220T080000
DTEND;TZID=America/New_York:20161220T100000
DTSTAMP:20260425T114259
CREATED:20160112T183537Z
LAST-MODIFIED:20160112T183537Z
UID:4136-1482220800-1482228000@michiganidc.gov
SUMMARY:Commission Meeting
DESCRIPTION:
URL:https://michiganidc.gov/calendar/commission-meeting-6/
LOCATION:MIDC Office\, 200 N Washington\, Lansing\, MI\, United States
ORGANIZER;CN="MIDC":MAILTO:MitchellD20@michigan.gov
END:VEVENT
BEGIN:VEVENT
DTSTART;TZID=America/New_York:20161110T040000
DTEND;TZID=America/New_York:20161112T073000
DTSTAMP:20260425T114259
CREATED:20160706T003554Z
LAST-MODIFIED:20160706T003554Z
UID:4366-1478750400-1478935800@michiganidc.gov
SUMMARY:CDAM Fall Conference
DESCRIPTION:The Criminal Defense Attorneys of Michigan will host the Fall 2016 Conference in Traverse City\, Michigan with keynote speaker Dean Strang. \nSee CDAM’s website for more information.
URL:https://michiganidc.gov/calendar/cdam-fall-conference-2/
LOCATION:Park Place Hotel\, Traverse City\, MI\, United States
END:VEVENT
BEGIN:VEVENT
DTSTART;TZID=America/New_York:20161018T080000
DTEND;TZID=America/New_York:20161018T100000
DTSTAMP:20260425T114259
CREATED:20160112T183447Z
LAST-MODIFIED:20160112T183447Z
UID:4135-1476777600-1476784800@michiganidc.gov
SUMMARY:Commission Meeting
DESCRIPTION:
URL:https://michiganidc.gov/calendar/commission-meeting-5/
LOCATION:MIDC Office\, 200 N Washington\, Lansing\, MI\, United States
ORGANIZER;CN="MIDC":MAILTO:MitchellD20@michigan.gov
END:VEVENT
BEGIN:VEVENT
DTSTART;TZID=America/New_York:20161008T033000
DTEND;TZID=America/New_York:20161008T120000
DTSTAMP:20260425T114259
CREATED:20160706T001833Z
LAST-MODIFIED:20160706T001833Z
UID:4364-1475897400-1475928000@michiganidc.gov
SUMMARY:CDAM's Evidence Boot Camp II - Detroit\, Lapeer and Muskegon
DESCRIPTION:CDAM continues to offer a hands-on evidence practice immersion program.  There is no requirement to attend Evidence Boot Camp I in order to participate in Evidence Boot Camp II. \nThe sessions will be held in Lapeer\, Detroit and Muskegon.  See CDAM’s website and brochure for more information. \n 
URL:https://michiganidc.gov/calendar/cdams-evidence-boot-camp-ii/
END:VEVENT
BEGIN:VEVENT
DTSTART;TZID=America/New_York:20160930T070000
DTEND;TZID=America/New_York:20160930T090000
DTSTAMP:20260425T114259
CREATED:20160921T222714Z
LAST-MODIFIED:20160921T222714Z
UID:4467-1475218800-1475226000@michiganidc.gov
SUMMARY:MIDC Town Hall Discussion
DESCRIPTION:MIDC Regional Consultant Chris Dennie and MIDC Executive Director Jonathan Sacks will discuss the latest developments at the MIDC.
URL:https://michiganidc.gov/calendar/midc-town-hall-discussion/
LOCATION:Kent County Courthouse\, 180 Ottawa Ave NW\, Grand Rapids\, MI\, 49503\, United States
ORGANIZER;CN="Grand Rapids Bar Association":MAILTO:debbie@grbar.org
END:VEVENT
BEGIN:VEVENT
DTSTART;TZID=America/New_York:20160930T040000
DTEND;TZID=America/New_York:20160930T120000
DTSTAMP:20260425T114259
CREATED:20160722T184849Z
LAST-MODIFIED:20160929T222747Z
UID:4394-1475208000-1475236800@michiganidc.gov
SUMMARY:Skills Training for Criminal Defense Attorneys (Oakland County)
DESCRIPTION:The Michigan Indigent Defense Commission and the Oakland County Bar Association present \nSkills Training for Criminal Defense Lawyers  \nDesigned as a model for compliance with the basic skills acquisition requirements of MIDC Proposed Standard 1\, this training event is designed for lawyers accepting appointments in adult criminal cases.  \nRead the flyer and register online through the Oakland County Bar Association website. \nMaterials found here. \nSample Motions found here.
URL:https://michiganidc.gov/calendar/skills-training-criminal-defense-attorneys-oakland-county/
LOCATION:Oakland County Bar Association\, 1760 South Telegraph Road\, Suite 100\, Bloomfield Hills\, MI\, 48302\, United States
END:VEVENT
BEGIN:VEVENT
DTSTART;TZID=America/New_York:20160916T040000
DTEND;TZID=America/New_York:20160916T120000
DTSTAMP:20260425T114259
CREATED:20160713T005218Z
LAST-MODIFIED:20160916T033213Z
UID:4373-1473998400-1474027200@michiganidc.gov
SUMMARY:Skills Training for Criminal Defense Attorneys (Macomb County)
DESCRIPTION:The Michigan Indigent Defense Commission and the Macomb County Bar Association present the following training opportunity: \nSkills Training for Criminal Defense Lawyers \nDesigned as a model for compliance with the basic skills acquisition requirements of the MIDC’s Conditionally Approved Standard 1\, this training event is designed for lawyers accepting appointments in adult criminal cases.  Topics to be covered include initial interviews with clients\, ethics and client-centeredness\, preliminary exams and motion practice. \nFriday September 16th\, 2016 \nMacomb County Circuit Courthouse \n9:00 a.m. – 5 p.m. \n(breaks and snacks will be provided; lunch on your own for about an hour) \nThis training event is FREE but advance registration is required. \nTHIS SESSION IS FULL.  Thank you for your interest. \nMATERIALS:\nThe hypothetical exercises for skills training (5 pages) can be found and printed from this link. \nAdditional materials are here: \nMorning session \nPreliminary Examinations outline and materials (court rules\, statutory provisions\, case law) \nMotion Practice \n  \nSee the promotional flyer here. \n  \n 
URL:https://michiganidc.gov/calendar/skills-training-criminal-defense-attorneys-macomb/
LOCATION:Macomb County Circuit Court\, 5th Floor Jury Room\, 40 N. Main Street\, Mt. Clements\, MI\, United States
END:VEVENT
BEGIN:VEVENT
DTSTART;TZID=America/New_York:20160909T083000
DTEND;TZID=America/New_York:20160909T103000
DTSTAMP:20260425T114259
CREATED:20160816T234206Z
LAST-MODIFIED:20160816T234206Z
UID:4427-1473409800-1473417000@michiganidc.gov
SUMMARY:CAP Session: Nuts and Bolts of Eyewitness Identification Evidence
DESCRIPTION:Presentation through the Wayne County Criminal Advocacy Program \nIdentification evidence is regularly used in hearings and trials. This session will give an overview of the types of identifications and procedures that are conducted in Michigan\, how to challenge identification evidence and testimony when necessary\, and will explore defense strategies including when experts are needed for trial. \nThe speaker for this session is Takura Nyamfukudza\, an attorney with the firm Alane & Chartier in Lansing\, Michigan.  The session will be moderated by Marla R. McCowan\, the MIDC’s Director of Training\, Outreach and Support. \nNo registration required.
URL:https://michiganidc.gov/calendar/cap-session-nuts-bolts-eyewitness-identification-evidence/
LOCATION:Coleman A. Young Municipal Center Auditorium\, 2 Woodward Avenue\, 13th Floor\, Detroit\, MI\, 48226\, United States
END:VEVENT
BEGIN:VEVENT
DTSTART;TZID=America/New_York:20160830T050000
DTEND;TZID=America/New_York:20160830T063000
DTSTAMP:20260425T114259
CREATED:20160823T235848Z
LAST-MODIFIED:20160823T235848Z
UID:4430-1472533200-1472538600@michiganidc.gov
SUMMARY:Technology for Lawyers: Free (or Really Cheap) Resources to Improve Your Criminal Defense Practice
DESCRIPTION:Join us for about an hour and learn how to make technology work for you! \nBrowser Basics – Declutter Your Email – Google Everything – Screenshots  \nSocial Media Made Simple- Best Apps for Lawyers \nView the flyer and register for the training today!
URL:https://michiganidc.gov/calendar/technology-lawyers-free-really-cheap-resources-improve-criminal-defense-practice/
LOCATION:Iron County Board of Commissioners Board Room\, 2 South 6th Street\, Crystal Falls\, MI\, 49920\, United States
ORGANIZER;CN="MIDC":MAILTO:MitchellD20@michigan.gov
END:VEVENT
BEGIN:VEVENT
DTSTART;TZID=America/New_York:20160826T083000
DTEND;TZID=America/New_York:20160826T103000
DTSTAMP:20260425T114259
CREATED:20160805T222744Z
LAST-MODIFIED:20160823T014034Z
UID:4414-1472200200-1472207400@michiganidc.gov
SUMMARY:CAP Session: Client Interviews
DESCRIPTION:Presentation through the Wayne County Criminal Advocacy Program \nThe initial client interview is the time to establish the trust and confidence that is critical to the attorney-client relationship. This session will cover best practices for conducting early interviews\, and includes checklists for information that needs to be gathered during the first discussion with your client. The session will also detail how to use the information obtained to begin to investigate the case\, how to navigate collateral consequences for your clients and encourage holistic representation. \nThe speaker for this session is Ashley A. Carter\, Regional Consultant for the Michigan Indigent Defense Commission.  The session will be moderated by Marla R. McCowan\, MIDC Director of Training\, Outreach and Support. \nNo registration required. \nMaterials are available here.
URL:https://michiganidc.gov/calendar/cap-session-client-interviews/
LOCATION:Coleman A. Young Municipal Center Auditorium\, 2 Woodward Avenue\, 13th Floor\, Detroit\, MI\, 48226\, United States
END:VEVENT
BEGIN:VEVENT
DTSTART;TZID=America/New_York:20160818T060000
DTEND;TZID=America/New_York:20160820T120000
DTSTAMP:20260425T114259
CREATED:20160706T001354Z
LAST-MODIFIED:20160706T001354Z
UID:4363-1471500000-1471694400@michiganidc.gov
SUMMARY:CDAM Trial College Voir Dire Intensive
DESCRIPTION:Trial Practice College Intensive Voir Dire is a two-and-a-half day training program for criminal defense attorneys to learn practical trial experience from seasoned veterans and to promote zealous defense advocacy. The program is designed to give every attorney an opportunity to actually practice conducting voir dire\, not just a lecture format. The training is geared to change methods and style of practice\, and also enhance each participant’s outlook on clients\, career\, and life.\n\nParticipants will be mentored by extremely skilled and highly respected Michigan attorneys\, who will work with them in a small group setting to help identify issues to address on voir dire. The key benefit of this program is that students will get multiple opportunities to actually conduct practice voir dire and receive direct feedback and analysis under the guidance of workshop faculty and peer review.  Although a default trial problem will be available\, students are encouraged to bring real cases of their own to develop and practice voir dire for their own cases. Unlike our traditional trial college\, in addition to daytime programming\, formal programming will be scheduled in evening sessions as well\, to ensure that we can give our attendees as complete a training experience as possible. CDAM appreciates how hard our members work for their money\, and how underpaid they all are. So we have designed this program to take as little time as possible away from your practice and made it intensive\, to give our members the most “bang for their buck.”\n\nThe experience of this type of training is extraordinarily beneficial. This small group approach guarantees everyone the opportunity for “hands on” practice with individualized attention. Attendance is limited to 40 students to ensure that there is a high faculty to student ratio with lots of personal mentoring. The residential approach provides an opportunity to benefit from the support of our peers and to build relationships that help strengthen our practices.\n\nRead more here.
URL:https://michiganidc.gov/calendar/cdam-trial-college-voir-dire-intensive/
LOCATION:Radisson Hotel and State Bar of Michigan\, Lansing\, MI\, United States
END:VEVENT
BEGIN:VEVENT
DTSTART;TZID=America/New_York:20160815T090000
DTEND;TZID=America/New_York:20160815T103000
DTSTAMP:20260425T114259
CREATED:20160805T012008Z
LAST-MODIFIED:20160805T012037Z
UID:4405-1471251600-1471257000@michiganidc.gov
SUMMARY:Technology for Lawyers - Free (or really cheap) Resources to Improve Your Practice
DESCRIPTION:The Grand Traverse-Leelanau-Antrim Bar Association and the Michigan Indigent Defense Commission present the following FREE training session: \nTechnology for Lawyers:\nFree (or Really Cheap) Resources to Improve Your Practice\nBrowser Basics – Declutter Your Email – Google Everything\nScreenshots – Social Media Made Simple- Best Apps for Lawyers \nMonday August 15th\, 2016 — 2:00 p.m.\nThe Commons Conference Room\n1200 W. 11th Street\, 2nd Floor – TC\, MI 49684\n(Above Cuppa Joe) \nMarla McCowan\nDirector of Training\, Outreach & Support\nMichigan Indigent Defense Commission \nMichael Naughton\nMIDC Regional Consultant\nNorthern Michigan and Upper Peninsula \nRSVP Online: \nhttps://www.eventbrite.com/e/technology-for-lawyers-free-or-really-cheap-resources-tickets-26826006307 \nBring your lunch or an afternoon snack \nSpend an hour (or so) with us and learn how to make technology work for you!
URL:https://michiganidc.gov/calendar/technology-lawyers-free-really-cheap-resources-improve-practice/
LOCATION:The Commons Conference Room (above Cuppa Joe)\, 1200 West 11th Street \, Traverse City\, MI\, 49684\, United States
END:VEVENT
BEGIN:VEVENT
DTSTART;TZID=America/New_York:20160809T080000
DTEND;TZID=America/New_York:20160809T100000
DTSTAMP:20260425T114259
CREATED:20160112T183345Z
LAST-MODIFIED:20160218T062721Z
UID:4134-1470729600-1470736800@michiganidc.gov
SUMMARY:Commission Meeting
DESCRIPTION:
URL:https://michiganidc.gov/calendar/commission-meeting-4/
LOCATION:MIDC Office\, 200 N Washington\, Lansing\, MI\, United States
ORGANIZER;CN="MIDC":MAILTO:MitchellD20@michigan.gov
END:VEVENT
BEGIN:VEVENT
DTSTART;TZID=America/New_York:20160804T030000
DTEND;TZID=America/New_York:20160804T120000
DTSTAMP:20260425T114259
CREATED:20160805T013140Z
LAST-MODIFIED:20160805T013151Z
UID:4410-1470279600-1470312000@michiganidc.gov
SUMMARY:How to Win Your Case in Voir Dire
DESCRIPTION:Spend the afternoon with veteran trial attorneys Barbara Klimaszewski and Marla McCowan as they reveal their strategies and techniques for effective jury selection in this FREE session for criminal defense attorneys. \nRead the flyer here.
URL:https://michiganidc.gov/calendar/win-case-voir-dire/
LOCATION:91st District Court\, 325 Court Street Suite 201\, Sault Ste Marie\, MI\, 49783\, United States
ORGANIZER;CN="MIDC":MAILTO:MitchellD20@michigan.gov
END:VEVENT
BEGIN:VEVENT
DTSTART;TZID=America/New_York:20160725T090000
DTEND;TZID=America/New_York:20160725T100000
DTSTAMP:20260425T114259
CREATED:20160708T192411Z
LAST-MODIFIED:20160726T184911Z
UID:4368-1469437200-1469440800@michiganidc.gov
SUMMARY:Technology for Lawyers: Free (or Cheap) Resources to Improve Your Practice
DESCRIPTION:The MIDC and the WCCDBA are pleased to present a 1 hour session for criminal defense attorneys.  This training session will be held in the Continuing Legal Education Center on the 8th Floor of the Frank Murphy Hall of Justice. \nSee the flyer for more details. \nPower Point Presentation: FMHJ Tech July 2016 \n  \n 
URL:https://michiganidc.gov/calendar/technology-lawyers-free-cheap-resources-improve-practice/
LOCATION:Frank Murphy Hall of Justice\, 1441 St Antoine St\, Detroit\, MI\, 48226\, United States
END:VEVENT
BEGIN:VEVENT
DTSTART;TZID=America/New_York:20160722T080000
DTEND;TZID=America/New_York:20160722T100000
DTSTAMP:20260425T114259
CREATED:20160705T235730Z
LAST-MODIFIED:20160720T033654Z
UID:4353-1469174400-1469181600@michiganidc.gov
SUMMARY:Criminal Law Update
DESCRIPTION:Michigan Indigent Defense Commission Regional Consultant Cheryl Carpenter\, in coordination with the St. Clair County Bar Association\, and through the generosity of the St. Clair Community College\, is pleased to present a FREE training event for criminal defense attorneys: \nCriminal Law Update \nBy Ron Bretz \nEmeritus Professor of Law \nFriday July 22\, 2016 – 1:00 – 3:00 p.m. \nSt. Clair County Community College \nWelcome Center Room 150 \n  \nThis session will cover all recent and relevant Michigan criminal case law updates beginning with pre-trial procedure through trial issues including the rules of evidence\, new crimes and legislative developments\, plea proceedings\, constitutional issues in criminal procedure\, sentencing law and post-conviction remedies.   \nClick here to register online for this FREE event. \nAbout the Speaker: Ron Bretz graduated from Wayne State University Law School and was admitted into the Michigan Bar in 1976. From 1976 to 1996\, Ron served as an assistant defender at the State Appellate Defender Office.  He handled many high profile cases including one in the U.S. Supreme Court\, Michigan v. Jackson\, 475 U.S. 625 (1986).  Prof. Bretz received an award from the Criminal Defense Attorneys of Michigan in 1987 for Outstanding Contributions to Criminal Defense Appellate Work for the Jackson case.   In 1996\, Bretz became a fulltime faculty member at Cooley Law School\, teaching Criminal Law\, Criminal Procedure\, and Forensic Evidence. He obtained tenure in 2004 and received the Beatty Award for Outstanding Teaching six times. He retired from full-time teaching in January 2014 and now holds the title of Emeritus Professor.  Prof. Bretz has presented at numerous CLE programs for CDAM\, the Michigan Judicial Institute\, the Michigan Judges Association\, the Michigan District Judges Association\, the Michigan Appellate Assigned Counsel System\, and state and local bar associations.    \nThe session is open to all and is FREE but advanced registration is required.  Please register no later than July 20\, 2016.  Click here to register. \nFor questions or concerns about this event\, please contact Cheryl Carpenter\, MIDC Regional Consultant for St. Clair County. \nSee the flyer for this event. \nDownload the materials here.
URL:https://michiganidc.gov/calendar/criminal-law-update/
LOCATION:St. Clair County Community College\, 323 Erie Street - Welcome Center\, Port Huron\, 48059\, United States
END:VEVENT
BEGIN:VEVENT
DTSTART;TZID=America/New_York:20160716T050000
DTEND;TZID=America/New_York:20160716T110000
DTSTAMP:20260425T114259
CREATED:20160706T000432Z
LAST-MODIFIED:20160713T030245Z
UID:4362-1468645200-1468666800@michiganidc.gov
SUMMARY:CDAM Summer Training
DESCRIPTION:Don’t miss this great day of training in Gaylord!  The topics and presenters include: \n\n\nStephanie Farkas on Understanding DNA Evidence\nRobert Whims on Criminal Law Accident Reconstruction\, Technology\, & Concepts through Story Problems\nDave Harvey on Eyewitness Identification Protocols \nTakura Nyamfukudza on Nuts & Bolts of Handling Eyewitness ID\n\nSee the summer training flyer here. \nMaterials available to Summer Trainees by contacting CDAM.
URL:https://michiganidc.gov/calendar/cdam-summer-training/
LOCATION:Otsego Country Club\, Gaylord\, MI\, United States
END:VEVENT
END:VCALENDAR