BEGIN:VCALENDAR
VERSION:2.0
PRODID:-//Michigan Indigent Defense Commission - ECPv5.8.0//NONSGML v1.0//EN
CALSCALE:GREGORIAN
METHOD:PUBLISH
X-WR-CALNAME:Michigan Indigent Defense Commission
X-ORIGINAL-URL:https://michiganidc.gov
X-WR-CALDESC:Events for Michigan Indigent Defense Commission
BEGIN:VTIMEZONE
TZID:UTC
BEGIN:STANDARD
TZOFFSETFROM:+0000
TZOFFSETTO:+0000
TZNAME:UTC
DTSTART:20180101T000000
END:STANDARD
END:VTIMEZONE
BEGIN:VEVENT
DTSTART;TZID=UTC:20180914T150000
DTEND;TZID=UTC:20180914T160000
DTSTAMP:20210717T185326
CREATED:20180824T180141Z
LAST-MODIFIED:20180824T180141Z
UID:5463-1536937200-1536940800@michiganidc.gov
SUMMARY:MIDC Compliance Plan Reporting and Grant Distribution Information (South Central Michigan)
DESCRIPTION:Please join us for an informational session about MIDC compliance plan implementation and grant reporting requirements scheduled to begin in October 2018. This session will be moderated by Marla McCowan\, Director of Training\, Outreach & Support\, and the MIDC’s Grant Manager Rebecca Mack. Regional Manager Kristen Staley will be monitoring questions during this interactive presentation. \nRSVP here.
URL:https://michiganidc.gov/calendar/midc-compliance-plan-reporting-and-grant-distribution-information-south-central-michigan/
LOCATION:Webinar
ORGANIZER;CN="MIDC":MAILTO:MitchellD20@michigan.gov
END:VEVENT
END:VCALENDAR