BEGIN:VCALENDAR
VERSION:2.0
PRODID:-//Michigan Indigent Defense Commission - ECPv5.10.0//NONSGML v1.0//EN
CALSCALE:GREGORIAN
METHOD:PUBLISH
X-WR-CALNAME:Michigan Indigent Defense Commission
X-ORIGINAL-URL:https://michiganidc.gov
X-WR-CALDESC:Events for Michigan Indigent Defense Commission
BEGIN:VTIMEZONE
TZID:UTC
BEGIN:STANDARD
TZOFFSETFROM:+0000
TZOFFSETTO:+0000
TZNAME:UTC
DTSTART:20200101T000000
END:STANDARD
END:VTIMEZONE
BEGIN:VEVENT
DTSTART;TZID=UTC:20200331T150000
DTEND;TZID=UTC:20200331T160000
DTSTAMP:20211020T030416
CREATED:20200317T143731Z
LAST-MODIFIED:20200328T155523Z
UID:6285-1585666800-1585670400@michiganidc.gov
SUMMARY:MIDC FY21 Compliance Planning Webinar
DESCRIPTION:Join the MIDC staff for an interactive planning webinar designed for funding units to help complete and submit the compliance plan and cost analysis due this spring. \n\nClick here to register for the live interactive webinar to be held on March 31\, 2020 from 3:00 p.m. – 4:00 p.m. EST\n\nNote: the compliance planning webinars will be identical in content and will be recorded and posted for later viewing on the MIDC’s website.  Attendees will receive a link to join the webinar the morning of the session.
URL:https://michiganidc.gov/calendar/midc-fy21-compliance-planning-webinar-2/
LOCATION:Webinar
ORGANIZER;CN="MIDC":MAILTO:MitchellD20@michigan.gov
END:VEVENT
END:VCALENDAR