BEGIN:VCALENDAR
VERSION:2.0
PRODID:-//Michigan Indigent Defense Commission - ECPv6.15.20//NONSGML v1.0//EN
CALSCALE:GREGORIAN
METHOD:PUBLISH
X-WR-CALNAME:Michigan Indigent Defense Commission
X-ORIGINAL-URL:https://michiganidc.gov
X-WR-CALDESC:Events for Michigan Indigent Defense Commission
REFRESH-INTERVAL;VALUE=DURATION:PT1H
X-Robots-Tag:noindex
X-PUBLISHED-TTL:PT1H
BEGIN:VTIMEZONE
TZID:America/New_York
BEGIN:DAYLIGHT
TZOFFSETFROM:-0500
TZOFFSETTO:-0400
TZNAME:EDT
DTSTART:20200308T070000
END:DAYLIGHT
BEGIN:STANDARD
TZOFFSETFROM:-0400
TZOFFSETTO:-0500
TZNAME:EST
DTSTART:20201101T060000
END:STANDARD
BEGIN:DAYLIGHT
TZOFFSETFROM:-0500
TZOFFSETTO:-0400
TZNAME:EDT
DTSTART:20210314T070000
END:DAYLIGHT
BEGIN:STANDARD
TZOFFSETFROM:-0400
TZOFFSETTO:-0500
TZNAME:EST
DTSTART:20211107T060000
END:STANDARD
BEGIN:DAYLIGHT
TZOFFSETFROM:-0500
TZOFFSETTO:-0400
TZNAME:EDT
DTSTART:20220313T070000
END:DAYLIGHT
BEGIN:STANDARD
TZOFFSETFROM:-0400
TZOFFSETTO:-0500
TZNAME:EST
DTSTART:20221106T060000
END:STANDARD
END:VTIMEZONE
BEGIN:VEVENT
DTSTART;TZID=America/New_York:20210817T040000
DTEND;TZID=America/New_York:20210817T120000
DTSTAMP:20260424T210751
CREATED:20201216T035211Z
LAST-MODIFIED:20210814T194027Z
UID:6784-1629172800-1629201600@michiganidc.gov
SUMMARY:MIDC Meeting
DESCRIPTION:Agenda \n\nNote that this meeting will be held at the Michigan Bankers Association Building: \nMichigan Bankers Association\, 507 S Grand Ave\, Lansing\, MI 48933 \nFree parking is available in the lot at the south east corner of Grand and Lenawee.  Free\, handicap-accessible parking and an accessible entrance to the building is available in the same lot but enter at the south west corner of Cherry at Lenawee. \nState of Michigan business is being conducted at this meeting.   In an effort to keep the workplace safe\, the State of Michigan is implementing a mask policy for all state employees\, contractors\, and the public who enter state facilities.  Please wear a mask if attending the meeting in person regardless of vaccination status unless the normal exemptions apply. \n\nIn response to the ongoing risk posed by COVID-19\, in an effort to reduce transmission of COVID-19 and protect the health of Commissioners\, MIDC staff\, and members of the public interested in attending the meeting\, access to the Commission will also be available remotely.  For any questions or concerns or to contact the Commission\, please email Marcela Westrate at WestrateM1@michigan.gov or call (517) 648-3143.\n \nIndividuals wishing to provide input or ask questions on any business before the Commission may participate in person\, by telephone or video. \nTo join by Zoom:  \nhttps://us02web.zoom.us/j/81240704375 \nMeeting ID: 812 4070 4375 \nOne tap mobile \n+19292056099\, 81240704375# US (New York) \nNote: Upon joining the meeting by Zoom\, all participants will momentarily be placed in a waiting room and admitted by the host. \n 
URL:https://michiganidc.gov/calendar/midc-meeting-12/
LOCATION:Michigan Bankers Association\, 507 S Grand Avenue\, Lansing\, MI\, 48933\, United States
CATEGORIES:Commission Meetings
ORGANIZER;CN="MIDC":MAILTO:DownerJ1@michigan.gov
END:VEVENT
END:VCALENDAR