BEGIN:VCALENDAR
VERSION:2.0
PRODID:-//Michigan Indigent Defense Commission - ECPv6.15.20//NONSGML v1.0//EN
CALSCALE:GREGORIAN
METHOD:PUBLISH
X-ORIGINAL-URL:https://michiganidc.gov
X-WR-CALDESC:Events for Michigan Indigent Defense Commission
REFRESH-INTERVAL;VALUE=DURATION:PT1H
X-Robots-Tag:noindex
X-PUBLISHED-TTL:PT1H
BEGIN:VTIMEZONE
TZID:America/New_York
BEGIN:DAYLIGHT
TZOFFSETFROM:-0500
TZOFFSETTO:-0400
TZNAME:EDT
DTSTART:20210314T070000
END:DAYLIGHT
BEGIN:STANDARD
TZOFFSETFROM:-0400
TZOFFSETTO:-0500
TZNAME:EST
DTSTART:20211107T060000
END:STANDARD
BEGIN:DAYLIGHT
TZOFFSETFROM:-0500
TZOFFSETTO:-0400
TZNAME:EDT
DTSTART:20220313T070000
END:DAYLIGHT
BEGIN:STANDARD
TZOFFSETFROM:-0400
TZOFFSETTO:-0500
TZNAME:EST
DTSTART:20221106T060000
END:STANDARD
BEGIN:DAYLIGHT
TZOFFSETFROM:-0500
TZOFFSETTO:-0400
TZNAME:EDT
DTSTART:20230312T070000
END:DAYLIGHT
BEGIN:STANDARD
TZOFFSETFROM:-0400
TZOFFSETTO:-0500
TZNAME:EST
DTSTART:20231105T060000
END:STANDARD
END:VTIMEZONE
BEGIN:VEVENT
DTSTART;TZID=America/New_York:20220124T100000
DTEND;TZID=America/New_York:20220124T170000
DTSTAMP:20260425T071639
CREATED:20220112T183704Z
LAST-MODIFIED:20220121T202846Z
UID:7319-1643018400-1643043600@michiganidc.gov
SUMMARY:MIDC Special Meeting: Strategic Planning Session
DESCRIPTION:The purpose of this meeting is to discuss the MIDC’s Strategic Plan.  The meeting will begin at 10:00 a.m. Eastern Standard Time at the Michigan Bankers Association Building. \nAgenda and Materials \nLocation:\nMichigan Bankers Association Building\n507 S Grand Ave\, Lansing\, MI 48933 \nOnline Access: For members of the public who wish to join the meeting online\, please email Marcela Westrate at WestrateM1@michigan.gov or call (517) 648-3143 to request a Zoom link. This link will be provided on the morning of the 24th before the meeting begins. \n  \n\nFree parking is available in the lot at the southeast corner of Grand and Lenawee.  Free\, handicap-accessible parking and an accessible entrance to the building is available in the same lot but enter at the southwest corner of Cherry at Lenawee. \nState of Michigan business is being conducted at this meeting.   In an effort to keep the workplace safe\, employees\, staff and contractors working on behalf of the State of Michigan must wear a mask if attending the meeting in person regardless of vaccination status unless the normal exemptions apply. \n\nFor any questions or concerns or to contact the Commission\, please email Marcela Westrate at WestrateM1@michigan.gov or call (517) 648-3143.
URL:https://michiganidc.gov/calendar/midc-special-meeting-strategic-planning-session/
LOCATION:Michigan Bankers Association\, 507 S Grand Avenue\, Lansing\, MI\, 48933\, United States
CATEGORIES:Commission Meetings
ORGANIZER;CN="MIDC":MAILTO:DownerJ1@michigan.gov
END:VEVENT
END:VCALENDAR